BEGIN:VCALENDAR
VERSION:2.0
PRODID:-//The Whitefield Library - ECPv6.15.20//NONSGML v1.0//EN
CALSCALE:GREGORIAN
METHOD:PUBLISH
X-ORIGINAL-URL:https://whitefieldlibrary.org
X-WR-CALDESC:Events for The Whitefield Library
REFRESH-INTERVAL;VALUE=DURATION:PT1H
X-Robots-Tag:noindex
X-PUBLISHED-TTL:PT1H
BEGIN:VTIMEZONE
TZID:America/New_York
BEGIN:DAYLIGHT
TZOFFSETFROM:-0500
TZOFFSETTO:-0400
TZNAME:EDT
DTSTART:20250309T070000
END:DAYLIGHT
BEGIN:STANDARD
TZOFFSETFROM:-0400
TZOFFSETTO:-0500
TZNAME:EST
DTSTART:20251102T060000
END:STANDARD
BEGIN:DAYLIGHT
TZOFFSETFROM:-0500
TZOFFSETTO:-0400
TZNAME:EDT
DTSTART:20260308T070000
END:DAYLIGHT
BEGIN:STANDARD
TZOFFSETFROM:-0400
TZOFFSETTO:-0500
TZNAME:EST
DTSTART:20261101T060000
END:STANDARD
BEGIN:DAYLIGHT
TZOFFSETFROM:-0500
TZOFFSETTO:-0400
TZNAME:EDT
DTSTART:20270314T070000
END:DAYLIGHT
BEGIN:STANDARD
TZOFFSETFROM:-0400
TZOFFSETTO:-0500
TZNAME:EST
DTSTART:20271107T060000
END:STANDARD
END:VTIMEZONE
BEGIN:VEVENT
DTSTART;TZID=America/New_York:20260425T130000
DTEND;TZID=America/New_York:20260425T140000
DTSTAMP:20260423T140749
CREATED:20260402T163453Z
LAST-MODIFIED:20260402T163453Z
UID:10006007-1777122000-1777125600@whitefieldlibrary.org
SUMMARY:Tips and Tricks to Deal With Stress: A Free Talk
DESCRIPTION:Join Ellen Dolce for a community talk at the library about dealing with day-to-day stress. This event is free and open to the public.
URL:https://whitefieldlibrary.org/event/tips-and-tricks-to-deal-with-stress-a-free-talk/
LOCATION:Whitefield Library & Community Center\, 1 Arlington Lane\, Whitefield\, ME\, 04353
ATTACH;FMTTYPE=image/png:https://whitefieldlibrary.org/wp-content/uploads/Tips_web_website.png
ORGANIZER;CN="Whitefield Library Association":MAILTO:Info@whitefieldlibrary.org
END:VEVENT
END:VCALENDAR