BEGIN:VCALENDAR
VERSION:2.0
PRODID:-//The Whitefield Library - ECPv6.15.20//NONSGML v1.0//EN
CALSCALE:GREGORIAN
METHOD:PUBLISH
X-ORIGINAL-URL:https://whitefieldlibrary.org
X-WR-CALDESC:Events for The Whitefield Library
REFRESH-INTERVAL;VALUE=DURATION:PT1H
X-Robots-Tag:noindex
X-PUBLISHED-TTL:PT1H
BEGIN:VTIMEZONE
TZID:America/New_York
BEGIN:DAYLIGHT
TZOFFSETFROM:-0500
TZOFFSETTO:-0400
TZNAME:EDT
DTSTART:20250309T070000
END:DAYLIGHT
BEGIN:STANDARD
TZOFFSETFROM:-0400
TZOFFSETTO:-0500
TZNAME:EST
DTSTART:20251102T060000
END:STANDARD
BEGIN:DAYLIGHT
TZOFFSETFROM:-0500
TZOFFSETTO:-0400
TZNAME:EDT
DTSTART:20260308T070000
END:DAYLIGHT
BEGIN:STANDARD
TZOFFSETFROM:-0400
TZOFFSETTO:-0500
TZNAME:EST
DTSTART:20261101T060000
END:STANDARD
BEGIN:DAYLIGHT
TZOFFSETFROM:-0500
TZOFFSETTO:-0400
TZNAME:EDT
DTSTART:20270314T070000
END:DAYLIGHT
BEGIN:STANDARD
TZOFFSETFROM:-0400
TZOFFSETTO:-0500
TZNAME:EST
DTSTART:20271107T060000
END:STANDARD
END:VTIMEZONE
BEGIN:VEVENT
DTSTART;TZID=America/New_York:20260507T180000
DTEND;TZID=America/New_York:20260507T190000
DTSTAMP:20260423T155258
CREATED:20260407T124307Z
LAST-MODIFIED:20260407T124307Z
UID:10006008-1778176800-1778180400@whitefieldlibrary.org
SUMMARY:Author Talk Series: Gerry Boyle
DESCRIPTION:Join us May 7 at 6 P.M. as our author talk series continues! \nGerry Boyle is a crime novelist based in Maine. Boyle is the author of 17 novels\, including the acclaimed Jack McMorrow mystery series\, featuring ex-New York Times reporter Jack McMorrow and his social worker partner Roxanne Masterson. \nBoyle also is the author of a second mystery series featuring rookie Portland cop Brandon Blake.  \nBoyle also lent a hand to his daughter Emily Westbrooks as she wrote a stand-alone crime novel set in Ireland\, THE DEAD SAMARITAN. \nBoyle last last Jack McMorrow novel\, HARD LINE\, published by Islandport Press in 2024\, won bronze medals from the Independent Publishers Book Awards\, for mystery novels\, and from the Independent Publishers of New England\, for genre fiction. \n  \nBoyle lives in China\, where he and his wife raised their family. \nWhen he isn’t writing\, Boyle is boating\, cycling\, working on their 200-year-old house\, and spending time time with his family.
URL:https://whitefieldlibrary.org/event/author-talk-series-gerry-boyle/
LOCATION:Whitefield Library & Community Center\, 1 Arlington Lane\, Whitefield\, ME\, 04353
ATTACH;FMTTYPE=image/png:https://whitefieldlibrary.org/wp-content/uploads/Gerry-Digital_website.png
ORGANIZER;CN="Whitefield Library Association":MAILTO:Info@whitefieldlibrary.org
END:VEVENT
END:VCALENDAR