BEGIN:VCALENDAR
VERSION:2.0
PRODID:-//The Whitefield Library - ECPv6.15.20//NONSGML v1.0//EN
CALSCALE:GREGORIAN
METHOD:PUBLISH
X-ORIGINAL-URL:https://whitefieldlibrary.org
X-WR-CALDESC:Events for The Whitefield Library
REFRESH-INTERVAL;VALUE=DURATION:PT1H
X-Robots-Tag:noindex
X-PUBLISHED-TTL:PT1H
BEGIN:VTIMEZONE
TZID:America/New_York
BEGIN:DAYLIGHT
TZOFFSETFROM:-0500
TZOFFSETTO:-0400
TZNAME:EDT
DTSTART:20250309T070000
END:DAYLIGHT
BEGIN:STANDARD
TZOFFSETFROM:-0400
TZOFFSETTO:-0500
TZNAME:EST
DTSTART:20251102T060000
END:STANDARD
BEGIN:DAYLIGHT
TZOFFSETFROM:-0500
TZOFFSETTO:-0400
TZNAME:EDT
DTSTART:20260308T070000
END:DAYLIGHT
BEGIN:STANDARD
TZOFFSETFROM:-0400
TZOFFSETTO:-0500
TZNAME:EST
DTSTART:20261101T060000
END:STANDARD
BEGIN:DAYLIGHT
TZOFFSETFROM:-0500
TZOFFSETTO:-0400
TZNAME:EDT
DTSTART:20270314T070000
END:DAYLIGHT
BEGIN:STANDARD
TZOFFSETFROM:-0400
TZOFFSETTO:-0500
TZNAME:EST
DTSTART:20271107T060000
END:STANDARD
END:VTIMEZONE
BEGIN:VEVENT
DTSTART;TZID=America/New_York:20260509T143000
DTEND;TZID=America/New_York:20260509T160000
DTSTAMP:20260423T195023
CREATED:20260421T185453Z
LAST-MODIFIED:20260421T185453Z
UID:10006012-1778337000-1778342400@whitefieldlibrary.org
SUMMARY:Whitefield Writes
DESCRIPTION:Join us May 9 at 2:30 P.M. for our free\, monthly generative writing group. This will be our last gathering before we take a break for the summer. \nWriters of all experience levels are invited to come together\, write\, share\, and connect in a welcoming\, supportive environment. \nEach monthly session focuses on generative writing\, using prompts and guided exercises designed to spark creativity and help participants generate new work. Writers are encouraged to share their work\, in an environment that focuses on exploration and creativity rather than critique. \nThe writing group is free to attend and open to the public\, and reflects the library’s commitment to fostering creativity\, literacy\, and community connection. \nFor more information\, including upcoming dates\, please visit whitefieldlibrary.org or email Kristin@whitefieldlibrary.org.
URL:https://whitefieldlibrary.org/event/whitefield-writes-6/
LOCATION:Whitefield Library & Community Center\, 1 Arlington Lane\, Whitefield\, ME\, 04353
ATTACH;FMTTYPE=image/png:https://whitefieldlibrary.org/wp-content/uploads/WW-EVERGREEN_website-1.png
ORGANIZER;CN="Whitefield Library Association":MAILTO:Info@whitefieldlibrary.org
END:VEVENT
BEGIN:VEVENT
DTSTART;TZID=America/New_York:20260514T140000
DTEND;TZID=America/New_York:20260514T150000
DTSTAMP:20260423T195023
CREATED:20260421T185213Z
LAST-MODIFIED:20260421T185213Z
UID:10006011-1778767200-1778770800@whitefieldlibrary.org
SUMMARY:When a Loved One is Dying: A Presentation on End-of-Life Care
DESCRIPTION:On Thursday May 14 at 2 P.M.\, join us for a thoughtful and deeply human presentation with Maureen Groden\, RN\, hospice nurse and educator. This event is free and open to the public. \nIn her book\, When a Loved One is Dying\, Groden shares true stories of families navigating the final chapter of a loved one’s life. This presentation will help explain universal emotions\, decisions\, and realizations that can emerge during end of life care. It can also help with the realization that although death brings undeniable sorrow\, it can also deepen bonds\, cultivate resistance\, and offer moments of profound beauty. \nMaureen Groden has been a hospice nurse and educator for several decades. She obtained her undergraduate degree in nursing from the University of Massachusetts and her graduate degree from the University of Connecticut.  Maureen holds certification as a Hospice and Palliative Care Registered Nurse from The Hospice and Palliative Care Credentialing Center. \nThroughout her career\, Maureen has held leadership positions at Mass General Brigham/Cooley Dickinson and Holyoke Medical Center/Hospice Life Care. In addition to clinical leadership\, she has taught community health nursing at several baccalaureate nursing programs\, primarily University of Massachusetts\, Amherst. She has presented widely at conferences and in the community on advanced directives\, palliative care and hospice. Maureen has a passion for helping families navigate the health care system and assisting with peaceful end-of-life transitions.
URL:https://whitefieldlibrary.org/event/when-a-loved-one-is-dying-a-presentation-on-end-of-life-care/
LOCATION:Whitefield Library & Community Center\, 1 Arlington Lane\, Whitefield\, ME\, 04353
ATTACH;FMTTYPE=image/png:https://whitefieldlibrary.org/wp-content/uploads/Library_Grodin_May14_website.png
ORGANIZER;CN="Whitefield Library Association":MAILTO:Info@whitefieldlibrary.org
END:VEVENT
BEGIN:VEVENT
DTSTART;TZID=America/New_York:20260516T180000
DTEND;TZID=America/New_York:20260516T200000
DTSTAMP:20260423T195023
CREATED:20260408T212946Z
LAST-MODIFIED:20260408T212946Z
UID:10006010-1778954400-1778961600@whitefieldlibrary.org
SUMMARY:Roaring 20s Swing Jazz Music at the Speakeasy: A Fundraising Gala
DESCRIPTION:Join us for an unforgettable evening of dancing\, food and drink at Le Barn in Jefferson! We are celebrating the roaring 20s in an epic fundraising event for Whitefield Library. Ticket price includes buffet appetizers\, bubbly\, wine\, beer or soft drinks\, and music all night long! This event is not to be missed. Tickets can be purchased at the library or by clicking here.
URL:https://whitefieldlibrary.org/event/roaring-20s-swing-jazz-music-at-the-speakeasy-a-fundraising-gala/
LOCATION:Le Barn\, 132 Waldoboro Road\, Jefferson\, ME\, USA\, Jefferson\, ME\, 04348\, United States
ATTACH;FMTTYPE=image/jpeg:https://whitefieldlibrary.org/wp-content/uploads/Speakeasy-Digitals_website.jpg
ORGANIZER;CN="Whitefield Library Association":MAILTO:Info@whitefieldlibrary.org
END:VEVENT
END:VCALENDAR