BEGIN:VCALENDAR
VERSION:2.0
PRODID:-//The Whitefield Library - ECPv6.15.20//NONSGML v1.0//EN
CALSCALE:GREGORIAN
METHOD:PUBLISH
X-WR-CALNAME:The Whitefield Library
X-ORIGINAL-URL:https://whitefieldlibrary.org
X-WR-CALDESC:Events for The Whitefield Library
REFRESH-INTERVAL;VALUE=DURATION:PT1H
X-Robots-Tag:noindex
X-PUBLISHED-TTL:PT1H
BEGIN:VTIMEZONE
TZID:America/New_York
BEGIN:DAYLIGHT
TZOFFSETFROM:-0500
TZOFFSETTO:-0400
TZNAME:EDT
DTSTART:20230312T070000
END:DAYLIGHT
BEGIN:STANDARD
TZOFFSETFROM:-0400
TZOFFSETTO:-0500
TZNAME:EST
DTSTART:20231105T060000
END:STANDARD
BEGIN:DAYLIGHT
TZOFFSETFROM:-0500
TZOFFSETTO:-0400
TZNAME:EDT
DTSTART:20240310T070000
END:DAYLIGHT
BEGIN:STANDARD
TZOFFSETFROM:-0400
TZOFFSETTO:-0500
TZNAME:EST
DTSTART:20241103T060000
END:STANDARD
BEGIN:DAYLIGHT
TZOFFSETFROM:-0500
TZOFFSETTO:-0400
TZNAME:EDT
DTSTART:20250309T070000
END:DAYLIGHT
BEGIN:STANDARD
TZOFFSETFROM:-0400
TZOFFSETTO:-0500
TZNAME:EST
DTSTART:20251102T060000
END:STANDARD
END:VTIMEZONE
BEGIN:VEVENT
DTSTART;TZID=America/New_York:20241206T103000
DTEND;TZID=America/New_York:20241206T103000
DTSTAMP:20260424T182918
CREATED:20240209T001719Z
LAST-MODIFIED:20240627T212749Z
UID:10002954-1733481000-1733481000@whitefieldlibrary.org
SUMMARY:Storytime with Suzanne - Every Friday @ 10:30am
DESCRIPTION:Join us every Friday at 10:30 with Suzanne for stories\, songs\, poems\, and play! \n  \n \n  \n 
URL:https://whitefieldlibrary.org/event/storytime-for-littles-every-friday-1030-1130/2024-12-06/
LOCATION:Whitefield Library & Community Center\, 1 Arlington Lane\, Whitefield\, ME\, 04353
ATTACH;FMTTYPE=image/png:https://whitefieldlibrary.org/wp-content/uploads/Storytime-with-Suzanne.png
ORGANIZER;CN="Whitefield Library Association":MAILTO:Info@whitefieldlibrary.org
END:VEVENT
BEGIN:VEVENT
DTSTART;TZID=America/New_York:20241206T180000
DTEND;TZID=America/New_York:20241206T193000
DTSTAMP:20260424T182918
CREATED:20241122T195706Z
LAST-MODIFIED:20241122T195706Z
UID:10004650-1733508000-1733513400@whitefieldlibrary.org
SUMMARY:First Friday Art Night with Mike Johnson: Friday\,  December 6 @ 6pm
DESCRIPTION:Join us for a reception honoring Mike Johnson on Friday\, December 6 @ 6pm. \n\nA little about Mike: \nFor 20 years\, Mike Johnson has been drawn toward the ancient craft of functional ceramics.\nMike and his family moved to their Whitefield farmstead in 2012\, finding a place to create a\nhand built life. When away from the potter’s wheel\, you will find him volunteering with Whitefield\nFire/EMS\, teaching clay classes at Kennebec Clay Works in Augusta\, or playing guitar.  You\nare invited to a showcase of clay and heat\, form and function; a synthesis of handmade pottery\nintended for domestic use. Mike is excited to share his passion for makers and making\, and\nwelcomes you to experience the tactile warmth of stoneware. \nThe Whitefield Library is located at 1 Arlington Lane in Whitefield and can be found online at\nhttps://whitefieldlibrary.org or by following us on Facebook and Instagram. For more\ninformation\, email us at: info@whitefieldlibrary.org This event is free\, but donations are greatly\nappreciated. We hope to see you there! \nWe currently have a few openings for artists who’d like to display their works at the library\nduring 2025. Please email our director at admin@whitefieldlibrary.org
URL:https://whitefieldlibrary.org/event/first-friday-art-night-with-mike-johnson-friday-december-6-6pm/
LOCATION:Whitefield Library & Community Center\, 1 Arlington Lane\, Whitefield\, ME\, 04353
ATTACH;FMTTYPE=image/png:https://whitefieldlibrary.org/wp-content/uploads/Mike-Johnson-860-x-484-px.png
ORGANIZER;CN="Whitefield Library Association":MAILTO:Info@whitefieldlibrary.org
END:VEVENT
BEGIN:VEVENT
DTSTART;TZID=America/New_York:20241208T140000
DTEND;TZID=America/New_York:20241208T170000
DTSTAMP:20260424T182918
CREATED:20241121T142939Z
LAST-MODIFIED:20241121T142940Z
UID:10004649-1733666400-1733677200@whitefieldlibrary.org
SUMMARY:Come celebrate the holidays with us!
DESCRIPTION:Sunday\, December 8 beginning at 2pm! Rudolph\, Frosty\, and Olaf will entertain us on the BIG screen. Free popcorn and hot cocoa. Bring blankets\, pillows\, stuffies and get cozy. Don’t forget your pajamas!!
URL:https://whitefieldlibrary.org/event/come-celebrate-the-holidays-with-us/
LOCATION:Whitefield Library & Community Center\, 1 Arlington Lane\, Whitefield\, ME\, 04353
CATEGORIES:Library News,News
ATTACH;FMTTYPE=image/png:https://whitefieldlibrary.org/wp-content/uploads/Add-a-heading-1-1.png
ORGANIZER;CN="Whitefield Library Association":MAILTO:Info@whitefieldlibrary.org
END:VEVENT
BEGIN:VEVENT
DTSTART;TZID=America/New_York:20241211T140000
DTEND;TZID=America/New_York:20241211T160000
DTSTAMP:20260424T182918
CREATED:20231210T131855Z
LAST-MODIFIED:20250530T154649Z
UID:10001294-1733925600-1733932800@whitefieldlibrary.org
SUMMARY:Any Book Book Club - Second Wednesday of Month from 2-4
DESCRIPTION:Join us the second Wednesday of each month for the monthly meeting of our Any Book\, Book Club. Each month\, we gather to discuss what we are currently reading and books that have stuck with us throughout the years. Our conversations are meandering\, and you are guaranteed to leave with a robust list of ‘must-reads!’ Light snacks and refreshments are provided! We hope to see you there!  \nGuiding Question – “What are you reading?”
URL:https://whitefieldlibrary.org/event/any-book-club-second-wednesday-of-month-2-4/2024-12-11/
LOCATION:Whitefield Library & Community Center\, 1 Arlington Lane\, Whitefield\, ME\, 04353
CATEGORIES:Library News,News
ATTACH;FMTTYPE=image/png:https://whitefieldlibrary.org/wp-content/uploads/Light-book-club-social-media-post-860-×-484-px.png
ORGANIZER;CN="Whitefield Library Association":MAILTO:Info@whitefieldlibrary.org
END:VEVENT
BEGIN:VEVENT
DTSTART;TZID=America/New_York:20241213T103000
DTEND;TZID=America/New_York:20241213T103000
DTSTAMP:20260424T182918
CREATED:20240209T001719Z
LAST-MODIFIED:20240627T212749Z
UID:10002955-1734085800-1734085800@whitefieldlibrary.org
SUMMARY:Storytime with Suzanne - Every Friday @ 10:30am
DESCRIPTION:Join us every Friday at 10:30 with Suzanne for stories\, songs\, poems\, and play! \n  \n \n  \n 
URL:https://whitefieldlibrary.org/event/storytime-for-littles-every-friday-1030-1130/2024-12-13/
LOCATION:Whitefield Library & Community Center\, 1 Arlington Lane\, Whitefield\, ME\, 04353
ATTACH;FMTTYPE=image/png:https://whitefieldlibrary.org/wp-content/uploads/Storytime-with-Suzanne.png
ORGANIZER;CN="Whitefield Library Association":MAILTO:Info@whitefieldlibrary.org
END:VEVENT
BEGIN:VEVENT
DTSTART;TZID=America/New_York:20241219T163000
DTEND;TZID=America/New_York:20241219T180000
DTSTAMP:20260424T182918
CREATED:20231020T171420Z
LAST-MODIFIED:20250411T120237Z
UID:10000116-1734625800-1734631200@whitefieldlibrary.org
SUMMARY:Monthly Library Board Meeting
DESCRIPTION:Our Monthly Library Board Meeting takes place on the 3rd Thursday of the month at 4:30 PM at the library\, in the community center on the second floor. Our Board Meetings are open to the public and accessible via Zoom (contact admin@whitefieldlibrary.org for Zoom meeting info).
URL:https://whitefieldlibrary.org/event/monthly-library-board-meeting/2024-12-19/
LOCATION:Whitefield Firehouse Conference Room\, 26 Townhouse Road\, Whitefield\, Maine\, 04353\, United States
CATEGORIES:Library News
ATTACH;FMTTYPE=image/png:https://whitefieldlibrary.org/wp-content/uploads/nggallery_import/Board-meeting.png
ORGANIZER;CN="Whitefield Library Association":MAILTO:Info@whitefieldlibrary.org
END:VEVENT
BEGIN:VEVENT
DTSTART;TZID=America/New_York:20241220T103000
DTEND;TZID=America/New_York:20241220T103000
DTSTAMP:20260424T182918
CREATED:20240209T001719Z
LAST-MODIFIED:20240627T212749Z
UID:10002956-1734690600-1734690600@whitefieldlibrary.org
SUMMARY:Storytime with Suzanne - Every Friday @ 10:30am
DESCRIPTION:Join us every Friday at 10:30 with Suzanne for stories\, songs\, poems\, and play! \n  \n \n  \n 
URL:https://whitefieldlibrary.org/event/storytime-for-littles-every-friday-1030-1130/2024-12-20/
LOCATION:Whitefield Library & Community Center\, 1 Arlington Lane\, Whitefield\, ME\, 04353
ATTACH;FMTTYPE=image/png:https://whitefieldlibrary.org/wp-content/uploads/Storytime-with-Suzanne.png
ORGANIZER;CN="Whitefield Library Association":MAILTO:Info@whitefieldlibrary.org
END:VEVENT
BEGIN:VEVENT
DTSTART;TZID=America/New_York:20241227T103000
DTEND;TZID=America/New_York:20241227T103000
DTSTAMP:20260424T182918
CREATED:20240209T001719Z
LAST-MODIFIED:20240627T212749Z
UID:10002957-1735295400-1735295400@whitefieldlibrary.org
SUMMARY:Storytime with Suzanne - Every Friday @ 10:30am
DESCRIPTION:Join us every Friday at 10:30 with Suzanne for stories\, songs\, poems\, and play! \n  \n \n  \n 
URL:https://whitefieldlibrary.org/event/storytime-for-littles-every-friday-1030-1130/2024-12-27/
LOCATION:Whitefield Library & Community Center\, 1 Arlington Lane\, Whitefield\, ME\, 04353
ATTACH;FMTTYPE=image/png:https://whitefieldlibrary.org/wp-content/uploads/Storytime-with-Suzanne.png
ORGANIZER;CN="Whitefield Library Association":MAILTO:Info@whitefieldlibrary.org
END:VEVENT
END:VCALENDAR