BEGIN:VCALENDAR
VERSION:2.0
PRODID:-//The Whitefield Library - ECPv6.15.20//NONSGML v1.0//EN
CALSCALE:GREGORIAN
METHOD:PUBLISH
X-ORIGINAL-URL:https://whitefieldlibrary.org
X-WR-CALDESC:Events for The Whitefield Library
REFRESH-INTERVAL;VALUE=DURATION:PT1H
X-Robots-Tag:noindex
X-PUBLISHED-TTL:PT1H
BEGIN:VTIMEZONE
TZID:America/New_York
BEGIN:DAYLIGHT
TZOFFSETFROM:-0500
TZOFFSETTO:-0400
TZNAME:EDT
DTSTART:20240310T070000
END:DAYLIGHT
BEGIN:STANDARD
TZOFFSETFROM:-0400
TZOFFSETTO:-0500
TZNAME:EST
DTSTART:20241103T060000
END:STANDARD
BEGIN:DAYLIGHT
TZOFFSETFROM:-0500
TZOFFSETTO:-0400
TZNAME:EDT
DTSTART:20250309T070000
END:DAYLIGHT
BEGIN:STANDARD
TZOFFSETFROM:-0400
TZOFFSETTO:-0500
TZNAME:EST
DTSTART:20251102T060000
END:STANDARD
BEGIN:DAYLIGHT
TZOFFSETFROM:-0500
TZOFFSETTO:-0400
TZNAME:EDT
DTSTART:20260308T070000
END:DAYLIGHT
BEGIN:STANDARD
TZOFFSETFROM:-0400
TZOFFSETTO:-0500
TZNAME:EST
DTSTART:20261101T060000
END:STANDARD
END:VTIMEZONE
BEGIN:VEVENT
DTSTART;TZID=America/New_York:20250708T183000
DTEND;TZID=America/New_York:20250708T193000
DTSTAMP:20260424T060656
CREATED:20250626T141646Z
LAST-MODIFIED:20250626T141646Z
UID:10005654-1751999400-1752003000@whitefieldlibrary.org
SUMMARY:Summer Reading Program Kickoff
DESCRIPTION:Join us at the library on July 8 to kick off an unforgettable summer of reading and belonging!\nThis year’s theme is “Reading Around the World”\, and every reader will receive their very own passport to track all the wonderful places they’ll visit with each book they read. \nAfter reading 10 books\, each reader can redeem a coupon for a free slice of cheese pizza\, donated by Sheepscot General! Ice cream generously donated by The Jefferson Scoop. \nThe program will take place from July 8 – August 18.
URL:https://whitefieldlibrary.org/event/summer-reading-program-kickoff/
LOCATION:Whitefield Library & Community Center\, 1 Arlington Lane\, Whitefield\, ME\, 04353
ORGANIZER;CN="Whitefield Library Association":MAILTO:Info@whitefieldlibrary.org
END:VEVENT
BEGIN:VEVENT
DTSTART;TZID=America/New_York:20250709T140000
DTEND;TZID=America/New_York:20250709T160000
DTSTAMP:20260424T060656
CREATED:20231210T131855Z
LAST-MODIFIED:20250530T154649Z
UID:10001301-1752069600-1752076800@whitefieldlibrary.org
SUMMARY:Any Book Book Club - Second Wednesday of Month from 2-4
DESCRIPTION:Join us the second Wednesday of each month for the monthly meeting of our Any Book\, Book Club. Each month\, we gather to discuss what we are currently reading and books that have stuck with us throughout the years. Our conversations are meandering\, and you are guaranteed to leave with a robust list of ‘must-reads!’ Light snacks and refreshments are provided! We hope to see you there!  \nGuiding Question – “What are you reading?”
URL:https://whitefieldlibrary.org/event/any-book-club-second-wednesday-of-month-2-4/2025-07-09/
LOCATION:Whitefield Library & Community Center\, 1 Arlington Lane\, Whitefield\, ME\, 04353
CATEGORIES:Library News,News
ATTACH;FMTTYPE=image/png:https://whitefieldlibrary.org/wp-content/uploads/Light-book-club-social-media-post-860-×-484-px.png
ORGANIZER;CN="Whitefield Library Association":MAILTO:Info@whitefieldlibrary.org
END:VEVENT
BEGIN:VEVENT
DTSTART;TZID=America/New_York:20250711T103000
DTEND;TZID=America/New_York:20250711T113000
DTSTAMP:20260424T060656
CREATED:20250303T144946Z
LAST-MODIFIED:20250628T111928Z
UID:10005010-1752229800-1752233400@whitefieldlibrary.org
SUMMARY:Storytime with Dawna
DESCRIPTION:Join us every Friday at 10:30 a.m. for stories\, songs\, and activities with Dawna.
URL:https://whitefieldlibrary.org/event/storytime-with-dawna/2025-07-11/
LOCATION:Whitefield Library & Community Center\, 1 Arlington Lane\, Whitefield\, ME\, 04353
ATTACH;FMTTYPE=image/png:https://whitefieldlibrary.org/wp-content/uploads/Story-Time.png
ORGANIZER;CN="Whitefield Library Association":MAILTO:Info@whitefieldlibrary.org
END:VEVENT
BEGIN:VEVENT
DTSTART;TZID=America/New_York:20250711T180000
DTEND;TZID=America/New_York:20250711T193000
DTSTAMP:20260424T060656
CREATED:20250630T141111Z
LAST-MODIFIED:20250630T141207Z
UID:10005672-1752256800-1752262200@whitefieldlibrary.org
SUMMARY:First Friday Art Night with Carolee Fields Withee
DESCRIPTION:Join us at 6 p.m. for a reception welcoming local artist Carolee Fields Withee! \nTrue to her belief that it’s never too late to try something new\, Carolee gifted herself canvases and acrylic paints for her 80th birthday. After decades of creating intricate pictorial wall quilts and embroidered pieces\, she was ready for a new artistic outlet. A largely self-taught painter\, Carolee brings a love of detail and realism to her work\, drawing inspiration from her life experiences and the natural surroundings of her Whitefield home. \nAs Carolee creates each painting\, often featuring flowers\, birds and butterflies\, she likes to think it may find its way to someone who loves nature but can no longer garden or spend time outdoors as often as they’d like. Most of her paintings are smaller in scale and perfectly suited to cozy living spaces. \nCarolee especially enjoys working with acrylics because she can easily wipe away mistakes with a bit of water. She doesn’t mind the mess either—cheerfully embracing the occasional splash of paint on her clothes as part of the creative process. \nSee Carol’s artwork at the Artist Reception at The Whitefield Library\, Friday\, July 11\, from 6:00–7:30 PM.
URL:https://whitefieldlibrary.org/event/first-friday-art-night-with-carolee-fields-withee/
LOCATION:Whitefield Library & Community Center\, 1 Arlington Lane\, Whitefield\, ME\, 04353
ORGANIZER;CN="Whitefield Library Association":MAILTO:Info@whitefieldlibrary.org
END:VEVENT
BEGIN:VEVENT
DTSTART;TZID=America/New_York:20250717T163000
DTEND;TZID=America/New_York:20250717T180000
DTSTAMP:20260424T060656
CREATED:20231020T171420Z
LAST-MODIFIED:20250411T120237Z
UID:10005597-1752769800-1752775200@whitefieldlibrary.org
SUMMARY:Monthly Library Board Meeting
DESCRIPTION:Our Monthly Library Board Meeting takes place on the 3rd Thursday of the month at 4:30 PM at the library\, in the community center on the second floor. Our Board Meetings are open to the public and accessible via Zoom (contact admin@whitefieldlibrary.org for Zoom meeting info).
URL:https://whitefieldlibrary.org/event/monthly-library-board-meeting/2025-07-17/
LOCATION:Whitefield Firehouse Conference Room\, 26 Townhouse Road\, Whitefield\, Maine\, 04353\, United States
CATEGORIES:Library News
ATTACH;FMTTYPE=image/png:https://whitefieldlibrary.org/wp-content/uploads/nggallery_import/Board-meeting.png
ORGANIZER;CN="Whitefield Library Association":MAILTO:Info@whitefieldlibrary.org
END:VEVENT
BEGIN:VEVENT
DTSTART;TZID=America/New_York:20250718T103000
DTEND;TZID=America/New_York:20250718T113000
DTSTAMP:20260424T060656
CREATED:20250303T144946Z
LAST-MODIFIED:20250628T111928Z
UID:10005011-1752834600-1752838200@whitefieldlibrary.org
SUMMARY:Storytime with Dawna
DESCRIPTION:Join us every Friday at 10:30 a.m. for stories\, songs\, and activities with Dawna.
URL:https://whitefieldlibrary.org/event/storytime-with-dawna/2025-07-18/
LOCATION:Whitefield Library & Community Center\, 1 Arlington Lane\, Whitefield\, ME\, 04353
ATTACH;FMTTYPE=image/png:https://whitefieldlibrary.org/wp-content/uploads/Story-Time.png
ORGANIZER;CN="Whitefield Library Association":MAILTO:Info@whitefieldlibrary.org
END:VEVENT
BEGIN:VEVENT
DTSTART;TZID=America/New_York:20250725T103000
DTEND;TZID=America/New_York:20250725T113000
DTSTAMP:20260424T060656
CREATED:20250303T144946Z
LAST-MODIFIED:20250628T111928Z
UID:10005012-1753439400-1753443000@whitefieldlibrary.org
SUMMARY:Storytime with Dawna
DESCRIPTION:Join us every Friday at 10:30 a.m. for stories\, songs\, and activities with Dawna.
URL:https://whitefieldlibrary.org/event/storytime-with-dawna/2025-07-25/
LOCATION:Whitefield Library & Community Center\, 1 Arlington Lane\, Whitefield\, ME\, 04353
ATTACH;FMTTYPE=image/png:https://whitefieldlibrary.org/wp-content/uploads/Story-Time.png
ORGANIZER;CN="Whitefield Library Association":MAILTO:Info@whitefieldlibrary.org
END:VEVENT
BEGIN:VEVENT
DTSTART;TZID=America/New_York:20250726T140000
DTEND;TZID=America/New_York:20250726T153000
DTSTAMP:20260424T060656
CREATED:20250323T175006Z
LAST-MODIFIED:20250713T144549Z
UID:10005520-1753538400-1753543800@whitefieldlibrary.org
SUMMARY:Author Talk Series - Dim Sum Palace Party with X. Fang!
DESCRIPTION:Join us July 26 at 2 p.m. for an epic Dim Sum Palace party with author X. Fang! \nReading and drawing by the author\, homemade dumplings to try\, a dumpling-making station with play dough\, and a chopstick challenge!  Bring a book to get signed\, or purchase yours at Sherman’s Bookstore in Damariscotta\, as books will not be sold at the event. This event is not to be missed!
URL:https://whitefieldlibrary.org/event/author-talk-x-fang/
LOCATION:Whitefield Library & Community Center\, 1 Arlington Lane\, Whitefield\, ME\, 04353
ORGANIZER;CN="Whitefield Library Association":MAILTO:Info@whitefieldlibrary.org
END:VEVENT
END:VCALENDAR