BEGIN:VCALENDAR
VERSION:2.0
PRODID:-//The Whitefield Library - ECPv6.15.20//NONSGML v1.0//EN
CALSCALE:GREGORIAN
METHOD:PUBLISH
X-ORIGINAL-URL:https://whitefieldlibrary.org
X-WR-CALDESC:Events for The Whitefield Library
REFRESH-INTERVAL;VALUE=DURATION:PT1H
X-Robots-Tag:noindex
X-PUBLISHED-TTL:PT1H
BEGIN:VTIMEZONE
TZID:America/New_York
BEGIN:DAYLIGHT
TZOFFSETFROM:-0500
TZOFFSETTO:-0400
TZNAME:EDT
DTSTART:20240310T070000
END:DAYLIGHT
BEGIN:STANDARD
TZOFFSETFROM:-0400
TZOFFSETTO:-0500
TZNAME:EST
DTSTART:20241103T060000
END:STANDARD
BEGIN:DAYLIGHT
TZOFFSETFROM:-0500
TZOFFSETTO:-0400
TZNAME:EDT
DTSTART:20250309T070000
END:DAYLIGHT
BEGIN:STANDARD
TZOFFSETFROM:-0400
TZOFFSETTO:-0500
TZNAME:EST
DTSTART:20251102T060000
END:STANDARD
BEGIN:DAYLIGHT
TZOFFSETFROM:-0500
TZOFFSETTO:-0400
TZNAME:EDT
DTSTART:20260308T070000
END:DAYLIGHT
BEGIN:STANDARD
TZOFFSETFROM:-0400
TZOFFSETTO:-0500
TZNAME:EST
DTSTART:20261101T060000
END:STANDARD
END:VTIMEZONE
BEGIN:VEVENT
DTSTART;TZID=America/New_York:20250905T103000
DTEND;TZID=America/New_York:20250905T113000
DTSTAMP:20260424T040606
CREATED:20250303T144946Z
LAST-MODIFIED:20250628T111928Z
UID:10005018-1757068200-1757071800@whitefieldlibrary.org
SUMMARY:Storytime with Dawna
DESCRIPTION:Join us every Friday at 10:30 a.m. for stories\, songs\, and activities with Dawna.
URL:https://whitefieldlibrary.org/event/storytime-with-dawna/2025-09-05/
LOCATION:Whitefield Library & Community Center\, 1 Arlington Lane\, Whitefield\, ME\, 04353
ATTACH;FMTTYPE=image/png:https://whitefieldlibrary.org/wp-content/uploads/Story-Time.png
ORGANIZER;CN="Whitefield Library Association":MAILTO:Info@whitefieldlibrary.org
END:VEVENT
BEGIN:VEVENT
DTSTART;TZID=America/New_York:20250905T180000
DTEND;TZID=America/New_York:20250905T193000
DTSTAMP:20260424T040606
CREATED:20250818T140010Z
LAST-MODIFIED:20250818T140010Z
UID:10005734-1757095200-1757100600@whitefieldlibrary.org
SUMMARY:First Friday Art Night
DESCRIPTION:Join us September 5 at 6 P.M. for an art opening and welcome reception for Kathy Bouchard. \nKathy Bouchard is a painter and textile artist who creates memorable one-of-a-kind pieces using various media.  She produces unique artworks and practical goods from her home studio in Newcastle\, Maine.  She has a love of mysterious things and is inspired by the inherent qualities of the patterns\, colors and textures created when using fabric dyes and paints.  Kathy grew up in Auburn and attended the Portland School of Art (now the Maine College of Art & Design) and the University of Southern Maine.  Kathy has shown her work in numerous shows and is in private collections across the country.  She loves nature and animals and shares proceeds with animal welfare organizations\, land conservation groups and other nonprofits. Kathy is grateful to the Whitefield Library for its community engagement and support of local artists and is happy to have the opportunity to share her creations.  A percentage from work sold will be donated to the library.
URL:https://whitefieldlibrary.org/event/first-friday-art-night-3/
LOCATION:Whitefield Library & Community Center\, 1 Arlington Lane\, Whitefield\, ME\, 04353
ATTACH;FMTTYPE=image/png:https://whitefieldlibrary.org/wp-content/uploads/ART-NIGHT_Kathy-Bouchard_digital_FB.png
ORGANIZER;CN="Whitefield Library Association":MAILTO:Info@whitefieldlibrary.org
END:VEVENT
BEGIN:VEVENT
DTSTART;TZID=America/New_York:20250910T140000
DTEND;TZID=America/New_York:20250910T160000
DTSTAMP:20260424T040606
CREATED:20231210T131855Z
LAST-MODIFIED:20250530T154649Z
UID:10001303-1757512800-1757520000@whitefieldlibrary.org
SUMMARY:Any Book Book Club - Second Wednesday of Month from 2-4
DESCRIPTION:Join us the second Wednesday of each month for the monthly meeting of our Any Book\, Book Club. Each month\, we gather to discuss what we are currently reading and books that have stuck with us throughout the years. Our conversations are meandering\, and you are guaranteed to leave with a robust list of ‘must-reads!’ Light snacks and refreshments are provided! We hope to see you there!  \nGuiding Question – “What are you reading?”
URL:https://whitefieldlibrary.org/event/any-book-club-second-wednesday-of-month-2-4/2025-09-10/
LOCATION:Whitefield Library & Community Center\, 1 Arlington Lane\, Whitefield\, ME\, 04353
CATEGORIES:Library News,News
ATTACH;FMTTYPE=image/png:https://whitefieldlibrary.org/wp-content/uploads/Light-book-club-social-media-post-860-×-484-px.png
ORGANIZER;CN="Whitefield Library Association":MAILTO:Info@whitefieldlibrary.org
END:VEVENT
BEGIN:VEVENT
DTSTART;TZID=America/New_York:20250912T103000
DTEND;TZID=America/New_York:20250912T113000
DTSTAMP:20260424T040606
CREATED:20250303T144946Z
LAST-MODIFIED:20250628T111928Z
UID:10005019-1757673000-1757676600@whitefieldlibrary.org
SUMMARY:Storytime with Dawna
DESCRIPTION:Join us every Friday at 10:30 a.m. for stories\, songs\, and activities with Dawna.
URL:https://whitefieldlibrary.org/event/storytime-with-dawna/2025-09-12/
LOCATION:Whitefield Library & Community Center\, 1 Arlington Lane\, Whitefield\, ME\, 04353
ATTACH;FMTTYPE=image/png:https://whitefieldlibrary.org/wp-content/uploads/Story-Time.png
ORGANIZER;CN="Whitefield Library Association":MAILTO:Info@whitefieldlibrary.org
END:VEVENT
BEGIN:VEVENT
DTSTART;TZID=America/New_York:20250918T163000
DTEND;TZID=America/New_York:20250918T180000
DTSTAMP:20260424T040606
CREATED:20231020T171420Z
LAST-MODIFIED:20250411T120237Z
UID:10005599-1758213000-1758218400@whitefieldlibrary.org
SUMMARY:Monthly Library Board Meeting
DESCRIPTION:Our Monthly Library Board Meeting takes place on the 3rd Thursday of the month at 4:30 PM at the library\, in the community center on the second floor. Our Board Meetings are open to the public and accessible via Zoom (contact admin@whitefieldlibrary.org for Zoom meeting info).
URL:https://whitefieldlibrary.org/event/monthly-library-board-meeting/2025-09-18/
LOCATION:Whitefield Firehouse Conference Room\, 26 Townhouse Road\, Whitefield\, Maine\, 04353\, United States
CATEGORIES:Library News
ATTACH;FMTTYPE=image/png:https://whitefieldlibrary.org/wp-content/uploads/nggallery_import/Board-meeting.png
ORGANIZER;CN="Whitefield Library Association":MAILTO:Info@whitefieldlibrary.org
END:VEVENT
BEGIN:VEVENT
DTSTART;TZID=America/New_York:20250919T103000
DTEND;TZID=America/New_York:20250919T113000
DTSTAMP:20260424T040606
CREATED:20250303T144946Z
LAST-MODIFIED:20250628T111928Z
UID:10005020-1758277800-1758281400@whitefieldlibrary.org
SUMMARY:Storytime with Dawna
DESCRIPTION:Join us every Friday at 10:30 a.m. for stories\, songs\, and activities with Dawna.
URL:https://whitefieldlibrary.org/event/storytime-with-dawna/2025-09-19/
LOCATION:Whitefield Library & Community Center\, 1 Arlington Lane\, Whitefield\, ME\, 04353
ATTACH;FMTTYPE=image/png:https://whitefieldlibrary.org/wp-content/uploads/Story-Time.png
ORGANIZER;CN="Whitefield Library Association":MAILTO:Info@whitefieldlibrary.org
END:VEVENT
BEGIN:VEVENT
DTSTART;TZID=America/New_York:20250919T180000
DTEND;TZID=America/New_York:20250919T193000
DTSTAMP:20260424T040606
CREATED:20250323T180315Z
LAST-MODIFIED:20250828T190909Z
UID:10005522-1758304800-1758310200@whitefieldlibrary.org
SUMMARY:Author Talk Series - Carol Gardner
DESCRIPTION:Join us September 19 at 6 p.m. for an author talk with Carol Gardner! 
URL:https://whitefieldlibrary.org/event/author-talk-carol-gardner/
LOCATION:Whitefield Library & Community Center\, 1 Arlington Lane\, Whitefield\, ME\, 04353
ATTACH;FMTTYPE=image/png:https://whitefieldlibrary.org/wp-content/uploads/Carol-Gardner-Digitals_FB.png
ORGANIZER;CN="Whitefield Library Association":MAILTO:Info@whitefieldlibrary.org
END:VEVENT
BEGIN:VEVENT
DTSTART;TZID=America/New_York:20250926T103000
DTEND;TZID=America/New_York:20250926T113000
DTSTAMP:20260424T040606
CREATED:20250303T144946Z
LAST-MODIFIED:20250628T111928Z
UID:10005021-1758882600-1758886200@whitefieldlibrary.org
SUMMARY:Storytime with Dawna
DESCRIPTION:Join us every Friday at 10:30 a.m. for stories\, songs\, and activities with Dawna.
URL:https://whitefieldlibrary.org/event/storytime-with-dawna/2025-09-26/
LOCATION:Whitefield Library & Community Center\, 1 Arlington Lane\, Whitefield\, ME\, 04353
ATTACH;FMTTYPE=image/png:https://whitefieldlibrary.org/wp-content/uploads/Story-Time.png
ORGANIZER;CN="Whitefield Library Association":MAILTO:Info@whitefieldlibrary.org
END:VEVENT
END:VCALENDAR