BEGIN:VCALENDAR
VERSION:2.0
PRODID:-//The Whitefield Library - ECPv6.15.20//NONSGML v1.0//EN
CALSCALE:GREGORIAN
METHOD:PUBLISH
X-ORIGINAL-URL:https://whitefieldlibrary.org
X-WR-CALDESC:Events for The Whitefield Library
REFRESH-INTERVAL;VALUE=DURATION:PT1H
X-Robots-Tag:noindex
X-PUBLISHED-TTL:PT1H
BEGIN:VTIMEZONE
TZID:America/New_York
BEGIN:DAYLIGHT
TZOFFSETFROM:-0500
TZOFFSETTO:-0400
TZNAME:EDT
DTSTART:20240310T070000
END:DAYLIGHT
BEGIN:STANDARD
TZOFFSETFROM:-0400
TZOFFSETTO:-0500
TZNAME:EST
DTSTART:20241103T060000
END:STANDARD
BEGIN:DAYLIGHT
TZOFFSETFROM:-0500
TZOFFSETTO:-0400
TZNAME:EDT
DTSTART:20250309T070000
END:DAYLIGHT
BEGIN:STANDARD
TZOFFSETFROM:-0400
TZOFFSETTO:-0500
TZNAME:EST
DTSTART:20251102T060000
END:STANDARD
BEGIN:DAYLIGHT
TZOFFSETFROM:-0500
TZOFFSETTO:-0400
TZNAME:EDT
DTSTART:20260308T070000
END:DAYLIGHT
BEGIN:STANDARD
TZOFFSETFROM:-0400
TZOFFSETTO:-0500
TZNAME:EST
DTSTART:20261101T060000
END:STANDARD
END:VTIMEZONE
BEGIN:VEVENT
DTSTART;TZID=America/New_York:20251003T103000
DTEND;TZID=America/New_York:20251003T113000
DTSTAMP:20260423T234902
CREATED:20250303T144946Z
LAST-MODIFIED:20250628T111928Z
UID:10005022-1759487400-1759491000@whitefieldlibrary.org
SUMMARY:Storytime with Dawna
DESCRIPTION:Join us every Friday at 10:30 a.m. for stories\, songs\, and activities with Dawna.
URL:https://whitefieldlibrary.org/event/storytime-with-dawna/2025-10-03/
LOCATION:Whitefield Library & Community Center\, 1 Arlington Lane\, Whitefield\, ME\, 04353
ATTACH;FMTTYPE=image/png:https://whitefieldlibrary.org/wp-content/uploads/Story-Time.png
ORGANIZER;CN="Whitefield Library Association":MAILTO:Info@whitefieldlibrary.org
END:VEVENT
BEGIN:VEVENT
DTSTART;TZID=America/New_York:20251003T180000
DTEND;TZID=America/New_York:20251003T193000
DTSTAMP:20260423T234902
CREATED:20250925T183536Z
LAST-MODIFIED:20250925T183536Z
UID:10005798-1759514400-1759519800@whitefieldlibrary.org
SUMMARY:First Friday Art Night with Marlene Barter
DESCRIPTION:Join us Friday\, October 3 for a welcome reception honoring local artist Marlene Barter! \nBorn and raised in Taos\, NM\, Marlene’s work is heavily influenced by the stunning landscape of the American Southwest. Moving back to Maine with her husband in the mid 2000s\, Marlene found herself once again inspired by the rugged beauty and extreme climates of the midcoast. Her art has been shown in many local galleries\, coffee shops\, and craft stores\, and she has done several commissioned works for friends and collectors.  \nMarlene always turns to art to fill her heart and quiet her mind.  She takes every opportunity in life to draw inspiration for her art\, from working in the garden to trips to Iceland and Canada.
URL:https://whitefieldlibrary.org/event/first-friday-art-night-with-marlene-barter/
LOCATION:Whitefield Library & Community Center\, 1 Arlington Lane\, Whitefield\, ME\, 04353
ATTACH;FMTTYPE=image/png:https://whitefieldlibrary.org/wp-content/uploads/Marlene-Digital-01.png
ORGANIZER;CN="Whitefield Library Association":MAILTO:Info@whitefieldlibrary.org
END:VEVENT
BEGIN:VEVENT
DTSTART;TZID=America/New_York:20251008T140000
DTEND;TZID=America/New_York:20251008T160000
DTSTAMP:20260423T234902
CREATED:20231210T131855Z
LAST-MODIFIED:20250530T154649Z
UID:10001304-1759932000-1759939200@whitefieldlibrary.org
SUMMARY:Any Book Book Club - Second Wednesday of Month from 2-4
DESCRIPTION:Join us the second Wednesday of each month for the monthly meeting of our Any Book\, Book Club. Each month\, we gather to discuss what we are currently reading and books that have stuck with us throughout the years. Our conversations are meandering\, and you are guaranteed to leave with a robust list of ‘must-reads!’ Light snacks and refreshments are provided! We hope to see you there!  \nGuiding Question – “What are you reading?”
URL:https://whitefieldlibrary.org/event/any-book-club-second-wednesday-of-month-2-4/2025-10-08/
LOCATION:Whitefield Library & Community Center\, 1 Arlington Lane\, Whitefield\, ME\, 04353
CATEGORIES:Library News,News
ATTACH;FMTTYPE=image/png:https://whitefieldlibrary.org/wp-content/uploads/Light-book-club-social-media-post-860-×-484-px.png
ORGANIZER;CN="Whitefield Library Association":MAILTO:Info@whitefieldlibrary.org
END:VEVENT
BEGIN:VEVENT
DTSTART;TZID=America/New_York:20251010T103000
DTEND;TZID=America/New_York:20251010T113000
DTSTAMP:20260423T234902
CREATED:20250303T144946Z
LAST-MODIFIED:20250628T111928Z
UID:10005023-1760092200-1760095800@whitefieldlibrary.org
SUMMARY:Storytime with Dawna
DESCRIPTION:Join us every Friday at 10:30 a.m. for stories\, songs\, and activities with Dawna.
URL:https://whitefieldlibrary.org/event/storytime-with-dawna/2025-10-10/
LOCATION:Whitefield Library & Community Center\, 1 Arlington Lane\, Whitefield\, ME\, 04353
ATTACH;FMTTYPE=image/png:https://whitefieldlibrary.org/wp-content/uploads/Story-Time.png
ORGANIZER;CN="Whitefield Library Association":MAILTO:Info@whitefieldlibrary.org
END:VEVENT
BEGIN:VEVENT
DTSTART;TZID=America/New_York:20251011T140000
DTEND;TZID=America/New_York:20251011T153000
DTSTAMP:20260423T234902
CREATED:20250323T180451Z
LAST-MODIFIED:20250323T180615Z
UID:10005523-1760191200-1760196600@whitefieldlibrary.org
SUMMARY:Author Talk Series - Kate Smith
DESCRIPTION:Join us October 11 at 2 p.m. for an author talk with Kate Smith! 
URL:https://whitefieldlibrary.org/event/author-talk-with-kate-smith/
LOCATION:Whitefield Library & Community Center\, 1 Arlington Lane\, Whitefield\, ME\, 04353
ORGANIZER;CN="Whitefield Library Association":MAILTO:Info@whitefieldlibrary.org
END:VEVENT
BEGIN:VEVENT
DTSTART;TZID=America/New_York:20251016T163000
DTEND;TZID=America/New_York:20251016T180000
DTSTAMP:20260423T234902
CREATED:20231020T171420Z
LAST-MODIFIED:20250411T120237Z
UID:10005600-1760632200-1760637600@whitefieldlibrary.org
SUMMARY:Monthly Library Board Meeting
DESCRIPTION:Our Monthly Library Board Meeting takes place on the 3rd Thursday of the month at 4:30 PM at the library\, in the community center on the second floor. Our Board Meetings are open to the public and accessible via Zoom (contact admin@whitefieldlibrary.org for Zoom meeting info).
URL:https://whitefieldlibrary.org/event/monthly-library-board-meeting/2025-10-16/
LOCATION:Whitefield Firehouse Conference Room\, 26 Townhouse Road\, Whitefield\, Maine\, 04353\, United States
CATEGORIES:Library News
ATTACH;FMTTYPE=image/png:https://whitefieldlibrary.org/wp-content/uploads/nggallery_import/Board-meeting.png
ORGANIZER;CN="Whitefield Library Association":MAILTO:Info@whitefieldlibrary.org
END:VEVENT
BEGIN:VEVENT
DTSTART;TZID=America/New_York:20251017T103000
DTEND;TZID=America/New_York:20251017T113000
DTSTAMP:20260423T234902
CREATED:20250303T144946Z
LAST-MODIFIED:20250628T111928Z
UID:10005024-1760697000-1760700600@whitefieldlibrary.org
SUMMARY:Storytime with Dawna
DESCRIPTION:Join us every Friday at 10:30 a.m. for stories\, songs\, and activities with Dawna.
URL:https://whitefieldlibrary.org/event/storytime-with-dawna/2025-10-17/
LOCATION:Whitefield Library & Community Center\, 1 Arlington Lane\, Whitefield\, ME\, 04353
ATTACH;FMTTYPE=image/png:https://whitefieldlibrary.org/wp-content/uploads/Story-Time.png
ORGANIZER;CN="Whitefield Library Association":MAILTO:Info@whitefieldlibrary.org
END:VEVENT
BEGIN:VEVENT
DTSTART;TZID=America/New_York:20251018T190000
DTEND;TZID=America/New_York:20251018T210000
DTSTAMP:20260423T234902
CREATED:20250930T130012Z
LAST-MODIFIED:20250930T130012Z
UID:10005859-1760814000-1760821200@whitefieldlibrary.org
SUMMARY:Annual Murder Mystery Event: Horror at Homecoming!
DESCRIPTION:The future is bright for all but one at the Homecoming Dance! Competition is fierce on the football field and the students are battling it out over grades\, popularity\, and the coveted Homecoming King and Queen title. \nWhich guest will be pushed to the brink and commit an act of vengeance? \nJoin us at the dance for a night filled with mystery\, mayhem\, deceit and dishonor! \nThis 21+ event will be held at the library! Parking is limited so please consider carpooling. Click below to purchase tickets\, or buy them at the library during business hours!  \nPurchase Tickets
URL:https://whitefieldlibrary.org/event/annual-murder-mystery-event-horror-at-homecoming/
LOCATION:Whitefield Library & Community Center\, 1 Arlington Lane\, Whitefield\, ME\, 04353
ATTACH;FMTTYPE=image/jpeg:https://whitefieldlibrary.org/wp-content/uploads/Horror-Website-event.jpg
ORGANIZER;CN="Whitefield Library Association":MAILTO:Info@whitefieldlibrary.org
END:VEVENT
BEGIN:VEVENT
DTSTART;TZID=America/New_York:20251024T103000
DTEND;TZID=America/New_York:20251024T113000
DTSTAMP:20260423T234902
CREATED:20250303T144946Z
LAST-MODIFIED:20250628T111928Z
UID:10005025-1761301800-1761305400@whitefieldlibrary.org
SUMMARY:Storytime with Dawna
DESCRIPTION:Join us every Friday at 10:30 a.m. for stories\, songs\, and activities with Dawna.
URL:https://whitefieldlibrary.org/event/storytime-with-dawna/2025-10-24/
LOCATION:Whitefield Library & Community Center\, 1 Arlington Lane\, Whitefield\, ME\, 04353
ATTACH;FMTTYPE=image/png:https://whitefieldlibrary.org/wp-content/uploads/Story-Time.png
ORGANIZER;CN="Whitefield Library Association":MAILTO:Info@whitefieldlibrary.org
END:VEVENT
BEGIN:VEVENT
DTSTART;TZID=America/New_York:20251031T103000
DTEND;TZID=America/New_York:20251031T113000
DTSTAMP:20260423T234902
CREATED:20250303T144946Z
LAST-MODIFIED:20250628T111928Z
UID:10005026-1761906600-1761910200@whitefieldlibrary.org
SUMMARY:Storytime with Dawna
DESCRIPTION:Join us every Friday at 10:30 a.m. for stories\, songs\, and activities with Dawna.
URL:https://whitefieldlibrary.org/event/storytime-with-dawna/2025-10-31/
LOCATION:Whitefield Library & Community Center\, 1 Arlington Lane\, Whitefield\, ME\, 04353
ATTACH;FMTTYPE=image/png:https://whitefieldlibrary.org/wp-content/uploads/Story-Time.png
ORGANIZER;CN="Whitefield Library Association":MAILTO:Info@whitefieldlibrary.org
END:VEVENT
END:VCALENDAR