BEGIN:VCALENDAR
VERSION:2.0
PRODID:-//The Whitefield Library - ECPv6.15.20//NONSGML v1.0//EN
CALSCALE:GREGORIAN
METHOD:PUBLISH
X-ORIGINAL-URL:https://whitefieldlibrary.org
X-WR-CALDESC:Events for The Whitefield Library
REFRESH-INTERVAL;VALUE=DURATION:PT1H
X-Robots-Tag:noindex
X-PUBLISHED-TTL:PT1H
BEGIN:VTIMEZONE
TZID:America/New_York
BEGIN:DAYLIGHT
TZOFFSETFROM:-0500
TZOFFSETTO:-0400
TZNAME:EDT
DTSTART:20240310T070000
END:DAYLIGHT
BEGIN:STANDARD
TZOFFSETFROM:-0400
TZOFFSETTO:-0500
TZNAME:EST
DTSTART:20241103T060000
END:STANDARD
BEGIN:DAYLIGHT
TZOFFSETFROM:-0500
TZOFFSETTO:-0400
TZNAME:EDT
DTSTART:20250309T070000
END:DAYLIGHT
BEGIN:STANDARD
TZOFFSETFROM:-0400
TZOFFSETTO:-0500
TZNAME:EST
DTSTART:20251102T060000
END:STANDARD
BEGIN:DAYLIGHT
TZOFFSETFROM:-0500
TZOFFSETTO:-0400
TZNAME:EDT
DTSTART:20260308T070000
END:DAYLIGHT
BEGIN:STANDARD
TZOFFSETFROM:-0400
TZOFFSETTO:-0500
TZNAME:EST
DTSTART:20261101T060000
END:STANDARD
END:VTIMEZONE
BEGIN:VEVENT
DTSTART;TZID=America/New_York:20251107T103000
DTEND;TZID=America/New_York:20251107T113000
DTSTAMP:20260423T215958
CREATED:20250303T144946Z
LAST-MODIFIED:20250628T111928Z
UID:10005027-1762511400-1762515000@whitefieldlibrary.org
SUMMARY:Storytime with Dawna
DESCRIPTION:Join us every Friday at 10:30 a.m. for stories\, songs\, and activities with Dawna.
URL:https://whitefieldlibrary.org/event/storytime-with-dawna/2025-11-07/
LOCATION:Whitefield Library & Community Center\, 1 Arlington Lane\, Whitefield\, ME\, 04353
ATTACH;FMTTYPE=image/png:https://whitefieldlibrary.org/wp-content/uploads/Story-Time.png
ORGANIZER;CN="Whitefield Library Association":MAILTO:Info@whitefieldlibrary.org
END:VEVENT
BEGIN:VEVENT
DTSTART;TZID=America/New_York:20251107T180000
DTEND;TZID=America/New_York:20251107T193000
DTSTAMP:20260423T215958
CREATED:20251009T145321Z
LAST-MODIFIED:20251009T145321Z
UID:10005860-1762538400-1762543800@whitefieldlibrary.org
SUMMARY:First Friday Art Night Featuring Linda Gallion
DESCRIPTION:Join us Friday\, November 7 at 6 p.m. for an artist’s reception welcoming Linda Gallion. \nLinda Gallion works primarily in soft pastels\, which she finds an incredibly vibrant and energizing medium for art.  As a child\, she enjoyed nature every day on the Kansas Flint Hills and often found the colors and light in the sky inspiring. Most of her work is landscapes of Maine and places she has traveled. Linda has worked in lithographs\, drawing\, pastels\, and printing\, and was mentored by Frances Hodsdon—a well know print artist and teacher. The Whitefield Artist Drawing Group hosted by Barbara Vanderbilt was also a significant part of her learning and mentoring process. \nLinda’s art has been shown at The Maine Art Gallery\, Boothbay Artist Foundation\, Pastel Painters of Cape Cod\, Washington Maine Library\, Damariscotta Grill Restaurant\, Waldoboro Theatre\, and now the Whitefield Library. You can also see some of her art at Clary Lake Bed and Breakfast\, which she owns and operates in Jefferson\, Maine. \nLearn more about Linda at https://www.clarylakebedandbreakfast.com/lindas-art.
URL:https://whitefieldlibrary.org/event/first-friday-art-night-featuring-linda-gallion/
LOCATION:Whitefield Library & Community Center\, 1 Arlington Lane\, Whitefield\, ME\, 04353
ATTACH;FMTTYPE=image/png:https://whitefieldlibrary.org/wp-content/uploads/Linda-G-Digitals_website.png
ORGANIZER;CN="Whitefield Library Association":MAILTO:Info@whitefieldlibrary.org
END:VEVENT
BEGIN:VEVENT
DTSTART;TZID=America/New_York:20251108T170000
DTEND;TZID=America/New_York:20251108T190000
DTSTAMP:20260423T215959
CREATED:20251025T152534Z
LAST-MODIFIED:20251025T152534Z
UID:10005861-1762621200-1762628400@whitefieldlibrary.org
SUMMARY:Monthly Drumming Circle with John Kootz
DESCRIPTION:Join us on November 8th from 5-7 pm for the start of our monthly drum circle in our beautiful upstairs space! \nJohn Kootz has been facilitating drum circles since 2014 and am a member of the international Drum Circle Facilitators Guild (DCFG.net). This free event is open to people of all ages and levels of experience with drumming!\nDonations are greatly appreciated\, and all proceeds will go toward the library. We will meet the second Saturday of every month.
URL:https://whitefieldlibrary.org/event/monthly-drumming-circle-with-john-kootz/2025-11-08/
LOCATION:Whitefield Library & Community Center\, 1 Arlington Lane\, Whitefield\, ME\, 04353
ATTACH;FMTTYPE=image/png:https://whitefieldlibrary.org/wp-content/uploads/Drumming-website-1.png
ORGANIZER;CN="Whitefield Library Association":MAILTO:Info@whitefieldlibrary.org
END:VEVENT
BEGIN:VEVENT
DTSTART;TZID=America/New_York:20251109T140000
DTEND;TZID=America/New_York:20251109T153000
DTSTAMP:20260423T215959
CREATED:20250323T181022Z
LAST-MODIFIED:20250925T202022Z
UID:10005524-1762696800-1762702200@whitefieldlibrary.org
SUMMARY:Author Talk Series - Bill Bunting
DESCRIPTION:Join us November 9 at 2 p.m. for an author talk with Bill Bunting! 
URL:https://whitefieldlibrary.org/event/author-talk-series-bill-bunting/
LOCATION:Whitefield Library & Community Center\, 1 Arlington Lane\, Whitefield\, ME\, 04353
ORGANIZER;CN="Whitefield Library Association":MAILTO:Info@whitefieldlibrary.org
END:VEVENT
BEGIN:VEVENT
DTSTART;TZID=America/New_York:20251112T140000
DTEND;TZID=America/New_York:20251112T160000
DTSTAMP:20260423T215959
CREATED:20231210T131855Z
LAST-MODIFIED:20250530T154649Z
UID:10001305-1762956000-1762963200@whitefieldlibrary.org
SUMMARY:Any Book Book Club - Second Wednesday of Month from 2-4
DESCRIPTION:Join us the second Wednesday of each month for the monthly meeting of our Any Book\, Book Club. Each month\, we gather to discuss what we are currently reading and books that have stuck with us throughout the years. Our conversations are meandering\, and you are guaranteed to leave with a robust list of ‘must-reads!’ Light snacks and refreshments are provided! We hope to see you there!  \nGuiding Question – “What are you reading?”
URL:https://whitefieldlibrary.org/event/any-book-club-second-wednesday-of-month-2-4/2025-11-12/
LOCATION:Whitefield Library & Community Center\, 1 Arlington Lane\, Whitefield\, ME\, 04353
CATEGORIES:Library News,News
ATTACH;FMTTYPE=image/png:https://whitefieldlibrary.org/wp-content/uploads/Light-book-club-social-media-post-860-×-484-px.png
ORGANIZER;CN="Whitefield Library Association":MAILTO:Info@whitefieldlibrary.org
END:VEVENT
BEGIN:VEVENT
DTSTART;TZID=America/New_York:20251114T103000
DTEND;TZID=America/New_York:20251114T113000
DTSTAMP:20260423T215959
CREATED:20250303T144946Z
LAST-MODIFIED:20250628T111928Z
UID:10005028-1763116200-1763119800@whitefieldlibrary.org
SUMMARY:Storytime with Dawna
DESCRIPTION:Join us every Friday at 10:30 a.m. for stories\, songs\, and activities with Dawna.
URL:https://whitefieldlibrary.org/event/storytime-with-dawna/2025-11-14/
LOCATION:Whitefield Library & Community Center\, 1 Arlington Lane\, Whitefield\, ME\, 04353
ATTACH;FMTTYPE=image/png:https://whitefieldlibrary.org/wp-content/uploads/Story-Time.png
ORGANIZER;CN="Whitefield Library Association":MAILTO:Info@whitefieldlibrary.org
END:VEVENT
BEGIN:VEVENT
DTSTART;TZID=America/New_York:20251120T163000
DTEND;TZID=America/New_York:20251120T180000
DTSTAMP:20260423T215959
CREATED:20231020T171420Z
LAST-MODIFIED:20250411T120237Z
UID:10005601-1763656200-1763661600@whitefieldlibrary.org
SUMMARY:Monthly Library Board Meeting
DESCRIPTION:Our Monthly Library Board Meeting takes place on the 3rd Thursday of the month at 4:30 PM at the library\, in the community center on the second floor. Our Board Meetings are open to the public and accessible via Zoom (contact admin@whitefieldlibrary.org for Zoom meeting info).
URL:https://whitefieldlibrary.org/event/monthly-library-board-meeting/2025-11-20/
LOCATION:Whitefield Firehouse Conference Room\, 26 Townhouse Road\, Whitefield\, Maine\, 04353\, United States
CATEGORIES:Library News
ATTACH;FMTTYPE=image/png:https://whitefieldlibrary.org/wp-content/uploads/nggallery_import/Board-meeting.png
ORGANIZER;CN="Whitefield Library Association":MAILTO:Info@whitefieldlibrary.org
END:VEVENT
BEGIN:VEVENT
DTSTART;TZID=America/New_York:20251121T103000
DTEND;TZID=America/New_York:20251121T113000
DTSTAMP:20260423T215959
CREATED:20250303T144946Z
LAST-MODIFIED:20250628T111928Z
UID:10005029-1763721000-1763724600@whitefieldlibrary.org
SUMMARY:Storytime with Dawna
DESCRIPTION:Join us every Friday at 10:30 a.m. for stories\, songs\, and activities with Dawna.
URL:https://whitefieldlibrary.org/event/storytime-with-dawna/2025-11-21/
LOCATION:Whitefield Library & Community Center\, 1 Arlington Lane\, Whitefield\, ME\, 04353
ATTACH;FMTTYPE=image/png:https://whitefieldlibrary.org/wp-content/uploads/Story-Time.png
ORGANIZER;CN="Whitefield Library Association":MAILTO:Info@whitefieldlibrary.org
END:VEVENT
BEGIN:VEVENT
DTSTART;TZID=America/New_York:20251128T103000
DTEND;TZID=America/New_York:20251128T113000
DTSTAMP:20260423T215959
CREATED:20250303T144946Z
LAST-MODIFIED:20250628T111928Z
UID:10005030-1764325800-1764329400@whitefieldlibrary.org
SUMMARY:Storytime with Dawna
DESCRIPTION:Join us every Friday at 10:30 a.m. for stories\, songs\, and activities with Dawna.
URL:https://whitefieldlibrary.org/event/storytime-with-dawna/2025-11-28/
LOCATION:Whitefield Library & Community Center\, 1 Arlington Lane\, Whitefield\, ME\, 04353
ATTACH;FMTTYPE=image/png:https://whitefieldlibrary.org/wp-content/uploads/Story-Time.png
ORGANIZER;CN="Whitefield Library Association":MAILTO:Info@whitefieldlibrary.org
END:VEVENT
END:VCALENDAR