BEGIN:VCALENDAR
VERSION:2.0
PRODID:-//The Whitefield Library - ECPv6.15.20//NONSGML v1.0//EN
CALSCALE:GREGORIAN
METHOD:PUBLISH
X-WR-CALNAME:The Whitefield Library
X-ORIGINAL-URL:https://whitefieldlibrary.org
X-WR-CALDESC:Events for The Whitefield Library
REFRESH-INTERVAL;VALUE=DURATION:PT1H
X-Robots-Tag:noindex
X-PUBLISHED-TTL:PT1H
BEGIN:VTIMEZONE
TZID:America/New_York
BEGIN:DAYLIGHT
TZOFFSETFROM:-0500
TZOFFSETTO:-0400
TZNAME:EDT
DTSTART:20250309T070000
END:DAYLIGHT
BEGIN:STANDARD
TZOFFSETFROM:-0400
TZOFFSETTO:-0500
TZNAME:EST
DTSTART:20251102T060000
END:STANDARD
BEGIN:DAYLIGHT
TZOFFSETFROM:-0500
TZOFFSETTO:-0400
TZNAME:EDT
DTSTART:20260308T070000
END:DAYLIGHT
BEGIN:STANDARD
TZOFFSETFROM:-0400
TZOFFSETTO:-0500
TZNAME:EST
DTSTART:20261101T060000
END:STANDARD
BEGIN:DAYLIGHT
TZOFFSETFROM:-0500
TZOFFSETTO:-0400
TZNAME:EDT
DTSTART:20270314T070000
END:DAYLIGHT
BEGIN:STANDARD
TZOFFSETFROM:-0400
TZOFFSETTO:-0500
TZNAME:EST
DTSTART:20271107T060000
END:STANDARD
END:VTIMEZONE
BEGIN:VEVENT
DTSTART;TZID=America/New_York:20260304T120000
DTEND;TZID=America/New_York:20260304T130000
DTSTAMP:20260423T135706
CREATED:20251219T130651Z
LAST-MODIFIED:20251219T130651Z
UID:10005933-1772625600-1772629200@whitefieldlibrary.org
SUMMARY:Brown Bag Lunch and Learn Series
DESCRIPTION:Join us at the library on March 4 from 12-1 P.M. as our Lunch and Learn series continues\, featuring Harriet Beecher Stowe. \n$10 includes presentation and bag lunch. Tickets available at the library or click below to buy online (small convenience fee applies). \nBUY TICKETS
URL:https://whitefieldlibrary.org/event/brown-bag-lunch-and-learn-series-2/
LOCATION:Whitefield Library & Community Center\, 1 Arlington Lane\, Whitefield\, ME\, 04353
ATTACH;FMTTYPE=image/png:https://whitefieldlibrary.org/wp-content/uploads/Brown-Bag-Digitals_Web-and-FB_HBS_Web.png
ORGANIZER;CN="Whitefield Library Association":MAILTO:Info@whitefieldlibrary.org
END:VEVENT
BEGIN:VEVENT
DTSTART;TZID=America/New_York:20260306T103000
DTEND;TZID=America/New_York:20260306T113000
DTSTAMP:20260423T135706
CREATED:20250303T144946Z
LAST-MODIFIED:20250628T111928Z
UID:10005044-1772793000-1772796600@whitefieldlibrary.org
SUMMARY:Storytime with Dawna
DESCRIPTION:Join us every Friday at 10:30 a.m. for stories\, songs\, and activities with Dawna.
URL:https://whitefieldlibrary.org/event/storytime-with-dawna/2026-03-06/
LOCATION:Whitefield Library & Community Center\, 1 Arlington Lane\, Whitefield\, ME\, 04353
ATTACH;FMTTYPE=image/png:https://whitefieldlibrary.org/wp-content/uploads/Story-Time.png
ORGANIZER;CN="Whitefield Library Association":MAILTO:Info@whitefieldlibrary.org
END:VEVENT
BEGIN:VEVENT
DTSTART;TZID=America/New_York:20260306T180000
DTEND;TZID=America/New_York:20260306T193000
DTSTAMP:20260423T135706
CREATED:20251219T124832Z
LAST-MODIFIED:20251219T124851Z
UID:10005925-1772820000-1772825400@whitefieldlibrary.org
SUMMARY:First Friday Art Night
DESCRIPTION:Join us March 6 \n 
URL:https://whitefieldlibrary.org/event/first-friday-art-night-6-2-2/
LOCATION:Whitefield Library & Community Center\, 1 Arlington Lane\, Whitefield\, ME\, 04353
ORGANIZER;CN="Whitefield Library Association":MAILTO:Info@whitefieldlibrary.org
END:VEVENT
BEGIN:VEVENT
DTSTART;TZID=America/New_York:20260311T140000
DTEND;TZID=America/New_York:20260311T160000
DTSTAMP:20260423T135706
CREATED:20231210T131855Z
LAST-MODIFIED:20250530T154649Z
UID:10001309-1773237600-1773244800@whitefieldlibrary.org
SUMMARY:Any Book Book Club - Second Wednesday of Month from 2-4
DESCRIPTION:Join us the second Wednesday of each month for the monthly meeting of our Any Book\, Book Club. Each month\, we gather to discuss what we are currently reading and books that have stuck with us throughout the years. Our conversations are meandering\, and you are guaranteed to leave with a robust list of ‘must-reads!’ Light snacks and refreshments are provided! We hope to see you there!  \nGuiding Question – “What are you reading?”
URL:https://whitefieldlibrary.org/event/any-book-club-second-wednesday-of-month-2-4/2026-03-11/
LOCATION:Whitefield Library & Community Center\, 1 Arlington Lane\, Whitefield\, ME\, 04353
CATEGORIES:Library News,News
ATTACH;FMTTYPE=image/png:https://whitefieldlibrary.org/wp-content/uploads/Light-book-club-social-media-post-860-×-484-px.png
ORGANIZER;CN="Whitefield Library Association":MAILTO:Info@whitefieldlibrary.org
END:VEVENT
BEGIN:VEVENT
DTSTART;TZID=America/New_York:20260313T103000
DTEND;TZID=America/New_York:20260313T113000
DTSTAMP:20260423T135706
CREATED:20250303T144946Z
LAST-MODIFIED:20250628T111928Z
UID:10005045-1773397800-1773401400@whitefieldlibrary.org
SUMMARY:Storytime with Dawna
DESCRIPTION:Join us every Friday at 10:30 a.m. for stories\, songs\, and activities with Dawna.
URL:https://whitefieldlibrary.org/event/storytime-with-dawna/2026-03-13/
LOCATION:Whitefield Library & Community Center\, 1 Arlington Lane\, Whitefield\, ME\, 04353
ATTACH;FMTTYPE=image/png:https://whitefieldlibrary.org/wp-content/uploads/Story-Time.png
ORGANIZER;CN="Whitefield Library Association":MAILTO:Info@whitefieldlibrary.org
END:VEVENT
BEGIN:VEVENT
DTSTART;TZID=America/New_York:20260314T143000
DTEND;TZID=America/New_York:20260314T160000
DTSTAMP:20260423T135706
CREATED:20260306T132236Z
LAST-MODIFIED:20260306T132236Z
UID:10006001-1773498600-1773504000@whitefieldlibrary.org
SUMMARY:Whitefield Writes
DESCRIPTION:Join us March 14 at 2:30 P.M. for our free\, monthly generative writing group. Writers of all experience levels are invited to come together\, write\, share\, and connect in a welcoming\, supportive environment. \nOur group meets monthly\, and each session focuses on generative writing\, using prompts and guided exercises designed to spark creativity and help participants generate new work. Writers are encouraged to share their work\, in an environment that focuses on exploration and creativity rather than critique. \nThe writing group is free to attend and open to the public\, and reflects the library’s commitment to fostering creativity\, literacy\, and community connection. \nFor more information\, including upcoming dates\, please visit whitefieldlibrary.org or email Kristin@whitefieldlibrary.org.
URL:https://whitefieldlibrary.org/event/whitefield-writes-4/
LOCATION:Whitefield Library & Community Center\, 1 Arlington Lane\, Whitefield\, ME\, 04353
ATTACH;FMTTYPE=image/png:https://whitefieldlibrary.org/wp-content/uploads/WW-EVERGREEN_website.png
ORGANIZER;CN="Whitefield Library Association":MAILTO:Info@whitefieldlibrary.org
END:VEVENT
BEGIN:VEVENT
DTSTART;TZID=America/New_York:20260314T170000
DTEND;TZID=America/New_York:20260314T190000
DTSTAMP:20260423T135706
CREATED:20251025T152534Z
LAST-MODIFIED:20251025T152534Z
UID:10005865-1773507600-1773514800@whitefieldlibrary.org
SUMMARY:Monthly Drumming Circle with John Kootz
DESCRIPTION:Join us on November 8th from 5-7 pm for the start of our monthly drum circle in our beautiful upstairs space! \nJohn Kootz has been facilitating drum circles since 2014 and am a member of the international Drum Circle Facilitators Guild (DCFG.net). This free event is open to people of all ages and levels of experience with drumming!\nDonations are greatly appreciated\, and all proceeds will go toward the library. We will meet the second Saturday of every month.
URL:https://whitefieldlibrary.org/event/monthly-drumming-circle-with-john-kootz/2026-03-14/
LOCATION:Whitefield Library & Community Center\, 1 Arlington Lane\, Whitefield\, ME\, 04353
ATTACH;FMTTYPE=image/png:https://whitefieldlibrary.org/wp-content/uploads/Drumming-website-1.png
ORGANIZER;CN="Whitefield Library Association":MAILTO:Info@whitefieldlibrary.org
END:VEVENT
BEGIN:VEVENT
DTSTART;TZID=America/New_York:20260319T163000
DTEND;TZID=America/New_York:20260319T180000
DTSTAMP:20260423T135706
CREATED:20231020T171420Z
LAST-MODIFIED:20250411T120237Z
UID:10000131-1773937800-1773943200@whitefieldlibrary.org
SUMMARY:Monthly Library Board Meeting
DESCRIPTION:Our Monthly Library Board Meeting takes place on the 3rd Thursday of the month at 4:30 PM at the library\, in the community center on the second floor. Our Board Meetings are open to the public and accessible via Zoom (contact admin@whitefieldlibrary.org for Zoom meeting info).
URL:https://whitefieldlibrary.org/event/monthly-library-board-meeting/2026-03-19/
LOCATION:Whitefield Firehouse Conference Room\, 26 Townhouse Road\, Whitefield\, Maine\, 04353\, United States
CATEGORIES:Library News
ATTACH;FMTTYPE=image/png:https://whitefieldlibrary.org/wp-content/uploads/nggallery_import/Board-meeting.png
ORGANIZER;CN="Whitefield Library Association":MAILTO:Info@whitefieldlibrary.org
END:VEVENT
BEGIN:VEVENT
DTSTART;TZID=America/New_York:20260320T103000
DTEND;TZID=America/New_York:20260320T113000
DTSTAMP:20260423T135706
CREATED:20250303T144946Z
LAST-MODIFIED:20250628T111928Z
UID:10005046-1774002600-1774006200@whitefieldlibrary.org
SUMMARY:Storytime with Dawna
DESCRIPTION:Join us every Friday at 10:30 a.m. for stories\, songs\, and activities with Dawna.
URL:https://whitefieldlibrary.org/event/storytime-with-dawna/2026-03-20/
LOCATION:Whitefield Library & Community Center\, 1 Arlington Lane\, Whitefield\, ME\, 04353
ATTACH;FMTTYPE=image/png:https://whitefieldlibrary.org/wp-content/uploads/Story-Time.png
ORGANIZER;CN="Whitefield Library Association":MAILTO:Info@whitefieldlibrary.org
END:VEVENT
BEGIN:VEVENT
DTSTART;TZID=America/New_York:20260327T103000
DTEND;TZID=America/New_York:20260327T113000
DTSTAMP:20260423T135706
CREATED:20250303T144946Z
LAST-MODIFIED:20250628T111928Z
UID:10005047-1774607400-1774611000@whitefieldlibrary.org
SUMMARY:Storytime with Dawna
DESCRIPTION:Join us every Friday at 10:30 a.m. for stories\, songs\, and activities with Dawna.
URL:https://whitefieldlibrary.org/event/storytime-with-dawna/2026-03-27/
LOCATION:Whitefield Library & Community Center\, 1 Arlington Lane\, Whitefield\, ME\, 04353
ATTACH;FMTTYPE=image/png:https://whitefieldlibrary.org/wp-content/uploads/Story-Time.png
ORGANIZER;CN="Whitefield Library Association":MAILTO:Info@whitefieldlibrary.org
END:VEVENT
BEGIN:VEVENT
DTSTART;TZID=America/New_York:20260327T180000
DTEND;TZID=America/New_York:20260327T200000
DTSTAMP:20260423T135706
CREATED:20260119T222041Z
LAST-MODIFIED:20260119T222041Z
UID:10005937-1774634400-1774641600@whitefieldlibrary.org
SUMMARY:Monthly Swing Dance Lesson
DESCRIPTION:Our monthly swing dancing lessons\, led by Jim Ostiguy\, will take place the last Friday of every month from 6-8 P.M. in our upstairs space.\n$5 suggested donation per person.
URL:https://whitefieldlibrary.org/event/monthly-swing-dance-lesson/2026-03-27/
LOCATION:Whitefield Library & Community Center\, 1 Arlington Lane\, Whitefield\, ME\, 04353
ATTACH;FMTTYPE=image/jpeg:https://whitefieldlibrary.org/wp-content/uploads/Swing-Dancing-02.jpg
ORGANIZER;CN="Whitefield Library Association":MAILTO:Info@whitefieldlibrary.org
END:VEVENT
END:VCALENDAR