BEGIN:VCALENDAR
VERSION:2.0
PRODID:-//The Whitefield Library - ECPv6.15.20//NONSGML v1.0//EN
CALSCALE:GREGORIAN
METHOD:PUBLISH
X-WR-CALNAME:The Whitefield Library
X-ORIGINAL-URL:https://whitefieldlibrary.org
X-WR-CALDESC:Events for The Whitefield Library
REFRESH-INTERVAL;VALUE=DURATION:PT1H
X-Robots-Tag:noindex
X-PUBLISHED-TTL:PT1H
BEGIN:VTIMEZONE
TZID:America/New_York
BEGIN:DAYLIGHT
TZOFFSETFROM:-0500
TZOFFSETTO:-0400
TZNAME:EDT
DTSTART:20250309T070000
END:DAYLIGHT
BEGIN:STANDARD
TZOFFSETFROM:-0400
TZOFFSETTO:-0500
TZNAME:EST
DTSTART:20251102T060000
END:STANDARD
BEGIN:DAYLIGHT
TZOFFSETFROM:-0500
TZOFFSETTO:-0400
TZNAME:EDT
DTSTART:20260308T070000
END:DAYLIGHT
BEGIN:STANDARD
TZOFFSETFROM:-0400
TZOFFSETTO:-0500
TZNAME:EST
DTSTART:20261101T060000
END:STANDARD
BEGIN:DAYLIGHT
TZOFFSETFROM:-0500
TZOFFSETTO:-0400
TZNAME:EDT
DTSTART:20270314T070000
END:DAYLIGHT
BEGIN:STANDARD
TZOFFSETFROM:-0400
TZOFFSETTO:-0500
TZNAME:EST
DTSTART:20271107T060000
END:STANDARD
BEGIN:DAYLIGHT
TZOFFSETFROM:-0500
TZOFFSETTO:-0400
TZNAME:EDT
DTSTART:20280312T070000
END:DAYLIGHT
BEGIN:STANDARD
TZOFFSETFROM:-0400
TZOFFSETTO:-0500
TZNAME:EST
DTSTART:20281105T060000
END:STANDARD
BEGIN:DAYLIGHT
TZOFFSETFROM:-0500
TZOFFSETTO:-0400
TZNAME:EDT
DTSTART:20290311T070000
END:DAYLIGHT
BEGIN:STANDARD
TZOFFSETFROM:-0400
TZOFFSETTO:-0500
TZNAME:EST
DTSTART:20291104T060000
END:STANDARD
END:VTIMEZONE
BEGIN:VEVENT
DTSTART;TZID=America/New_York:20260424T180000
DTEND;TZID=America/New_York:20260424T200000
DTSTAMP:20260424T113125
CREATED:20260119T222041Z
LAST-MODIFIED:20260119T222041Z
UID:10005938-1777053600-1777060800@whitefieldlibrary.org
SUMMARY:Monthly Swing Dance Lesson
DESCRIPTION:Our monthly swing dancing lessons\, led by Jim Ostiguy\, will take place the last Friday of every month from 6-8 P.M. in our upstairs space.\n$5 suggested donation per person.
URL:https://whitefieldlibrary.org/event/monthly-swing-dance-lesson/2026-04-24/
LOCATION:Whitefield Library & Community Center\, 1 Arlington Lane\, Whitefield\, ME\, 04353
ATTACH;FMTTYPE=image/jpeg:https://whitefieldlibrary.org/wp-content/uploads/Swing-Dancing-02.jpg
ORGANIZER;CN="Whitefield Library Association":MAILTO:Info@whitefieldlibrary.org
END:VEVENT
BEGIN:VEVENT
DTSTART;TZID=America/New_York:20260529T180000
DTEND;TZID=America/New_York:20260529T200000
DTSTAMP:20260424T113125
CREATED:20260119T222041Z
LAST-MODIFIED:20260119T222041Z
UID:10005939-1780077600-1780084800@whitefieldlibrary.org
SUMMARY:Monthly Swing Dance Lesson
DESCRIPTION:Our monthly swing dancing lessons\, led by Jim Ostiguy\, will take place the last Friday of every month from 6-8 P.M. in our upstairs space.\n$5 suggested donation per person.
URL:https://whitefieldlibrary.org/event/monthly-swing-dance-lesson/2026-05-29/
LOCATION:Whitefield Library & Community Center\, 1 Arlington Lane\, Whitefield\, ME\, 04353
ATTACH;FMTTYPE=image/jpeg:https://whitefieldlibrary.org/wp-content/uploads/Swing-Dancing-02.jpg
ORGANIZER;CN="Whitefield Library Association":MAILTO:Info@whitefieldlibrary.org
END:VEVENT
BEGIN:VEVENT
DTSTART;TZID=America/New_York:20260626T180000
DTEND;TZID=America/New_York:20260626T200000
DTSTAMP:20260424T113125
CREATED:20260119T222041Z
LAST-MODIFIED:20260119T222041Z
UID:10005940-1782496800-1782504000@whitefieldlibrary.org
SUMMARY:Monthly Swing Dance Lesson
DESCRIPTION:Our monthly swing dancing lessons\, led by Jim Ostiguy\, will take place the last Friday of every month from 6-8 P.M. in our upstairs space.\n$5 suggested donation per person.
URL:https://whitefieldlibrary.org/event/monthly-swing-dance-lesson/2026-06-26/
LOCATION:Whitefield Library & Community Center\, 1 Arlington Lane\, Whitefield\, ME\, 04353
ATTACH;FMTTYPE=image/jpeg:https://whitefieldlibrary.org/wp-content/uploads/Swing-Dancing-02.jpg
ORGANIZER;CN="Whitefield Library Association":MAILTO:Info@whitefieldlibrary.org
END:VEVENT
BEGIN:VEVENT
DTSTART;TZID=America/New_York:20260731T180000
DTEND;TZID=America/New_York:20260731T200000
DTSTAMP:20260424T113125
CREATED:20260119T222041Z
LAST-MODIFIED:20260119T222041Z
UID:10005941-1785520800-1785528000@whitefieldlibrary.org
SUMMARY:Monthly Swing Dance Lesson
DESCRIPTION:Our monthly swing dancing lessons\, led by Jim Ostiguy\, will take place the last Friday of every month from 6-8 P.M. in our upstairs space.\n$5 suggested donation per person.
URL:https://whitefieldlibrary.org/event/monthly-swing-dance-lesson/2026-07-31/
LOCATION:Whitefield Library & Community Center\, 1 Arlington Lane\, Whitefield\, ME\, 04353
ATTACH;FMTTYPE=image/jpeg:https://whitefieldlibrary.org/wp-content/uploads/Swing-Dancing-02.jpg
ORGANIZER;CN="Whitefield Library Association":MAILTO:Info@whitefieldlibrary.org
END:VEVENT
BEGIN:VEVENT
DTSTART;TZID=America/New_York:20260828T180000
DTEND;TZID=America/New_York:20260828T200000
DTSTAMP:20260424T113125
CREATED:20260119T222041Z
LAST-MODIFIED:20260119T222041Z
UID:10005942-1787940000-1787947200@whitefieldlibrary.org
SUMMARY:Monthly Swing Dance Lesson
DESCRIPTION:Our monthly swing dancing lessons\, led by Jim Ostiguy\, will take place the last Friday of every month from 6-8 P.M. in our upstairs space.\n$5 suggested donation per person.
URL:https://whitefieldlibrary.org/event/monthly-swing-dance-lesson/2026-08-28/
LOCATION:Whitefield Library & Community Center\, 1 Arlington Lane\, Whitefield\, ME\, 04353
ATTACH;FMTTYPE=image/jpeg:https://whitefieldlibrary.org/wp-content/uploads/Swing-Dancing-02.jpg
ORGANIZER;CN="Whitefield Library Association":MAILTO:Info@whitefieldlibrary.org
END:VEVENT
BEGIN:VEVENT
DTSTART;TZID=America/New_York:20260925T180000
DTEND;TZID=America/New_York:20260925T200000
DTSTAMP:20260424T113125
CREATED:20260119T222041Z
LAST-MODIFIED:20260119T222041Z
UID:10005943-1790359200-1790366400@whitefieldlibrary.org
SUMMARY:Monthly Swing Dance Lesson
DESCRIPTION:Our monthly swing dancing lessons\, led by Jim Ostiguy\, will take place the last Friday of every month from 6-8 P.M. in our upstairs space.\n$5 suggested donation per person.
URL:https://whitefieldlibrary.org/event/monthly-swing-dance-lesson/2026-09-25/
LOCATION:Whitefield Library & Community Center\, 1 Arlington Lane\, Whitefield\, ME\, 04353
ATTACH;FMTTYPE=image/jpeg:https://whitefieldlibrary.org/wp-content/uploads/Swing-Dancing-02.jpg
ORGANIZER;CN="Whitefield Library Association":MAILTO:Info@whitefieldlibrary.org
END:VEVENT
BEGIN:VEVENT
DTSTART;TZID=America/New_York:20261030T180000
DTEND;TZID=America/New_York:20261030T200000
DTSTAMP:20260424T113125
CREATED:20260119T222041Z
LAST-MODIFIED:20260119T222041Z
UID:10005944-1793383200-1793390400@whitefieldlibrary.org
SUMMARY:Monthly Swing Dance Lesson
DESCRIPTION:Our monthly swing dancing lessons\, led by Jim Ostiguy\, will take place the last Friday of every month from 6-8 P.M. in our upstairs space.\n$5 suggested donation per person.
URL:https://whitefieldlibrary.org/event/monthly-swing-dance-lesson/2026-10-30/
LOCATION:Whitefield Library & Community Center\, 1 Arlington Lane\, Whitefield\, ME\, 04353
ATTACH;FMTTYPE=image/jpeg:https://whitefieldlibrary.org/wp-content/uploads/Swing-Dancing-02.jpg
ORGANIZER;CN="Whitefield Library Association":MAILTO:Info@whitefieldlibrary.org
END:VEVENT
BEGIN:VEVENT
DTSTART;TZID=America/New_York:20261127T180000
DTEND;TZID=America/New_York:20261127T200000
DTSTAMP:20260424T113125
CREATED:20260119T222041Z
LAST-MODIFIED:20260119T222041Z
UID:10005945-1795802400-1795809600@whitefieldlibrary.org
SUMMARY:Monthly Swing Dance Lesson
DESCRIPTION:Our monthly swing dancing lessons\, led by Jim Ostiguy\, will take place the last Friday of every month from 6-8 P.M. in our upstairs space.\n$5 suggested donation per person.
URL:https://whitefieldlibrary.org/event/monthly-swing-dance-lesson/2026-11-27/
LOCATION:Whitefield Library & Community Center\, 1 Arlington Lane\, Whitefield\, ME\, 04353
ATTACH;FMTTYPE=image/jpeg:https://whitefieldlibrary.org/wp-content/uploads/Swing-Dancing-02.jpg
ORGANIZER;CN="Whitefield Library Association":MAILTO:Info@whitefieldlibrary.org
END:VEVENT
BEGIN:VEVENT
DTSTART;TZID=America/New_York:20261225T180000
DTEND;TZID=America/New_York:20261225T200000
DTSTAMP:20260424T113125
CREATED:20260119T222041Z
LAST-MODIFIED:20260119T222041Z
UID:10005946-1798221600-1798228800@whitefieldlibrary.org
SUMMARY:Monthly Swing Dance Lesson
DESCRIPTION:Our monthly swing dancing lessons\, led by Jim Ostiguy\, will take place the last Friday of every month from 6-8 P.M. in our upstairs space.\n$5 suggested donation per person.
URL:https://whitefieldlibrary.org/event/monthly-swing-dance-lesson/2026-12-25/
LOCATION:Whitefield Library & Community Center\, 1 Arlington Lane\, Whitefield\, ME\, 04353
ATTACH;FMTTYPE=image/jpeg:https://whitefieldlibrary.org/wp-content/uploads/Swing-Dancing-02.jpg
ORGANIZER;CN="Whitefield Library Association":MAILTO:Info@whitefieldlibrary.org
END:VEVENT
BEGIN:VEVENT
DTSTART;TZID=America/New_York:20270129T180000
DTEND;TZID=America/New_York:20270129T200000
DTSTAMP:20260424T113125
CREATED:20260119T222041Z
LAST-MODIFIED:20260119T222041Z
UID:10005947-1801245600-1801252800@whitefieldlibrary.org
SUMMARY:Monthly Swing Dance Lesson
DESCRIPTION:Our monthly swing dancing lessons\, led by Jim Ostiguy\, will take place the last Friday of every month from 6-8 P.M. in our upstairs space.\n$5 suggested donation per person.
URL:https://whitefieldlibrary.org/event/monthly-swing-dance-lesson/2027-01-29/
LOCATION:Whitefield Library & Community Center\, 1 Arlington Lane\, Whitefield\, ME\, 04353
ATTACH;FMTTYPE=image/jpeg:https://whitefieldlibrary.org/wp-content/uploads/Swing-Dancing-02.jpg
ORGANIZER;CN="Whitefield Library Association":MAILTO:Info@whitefieldlibrary.org
END:VEVENT
BEGIN:VEVENT
DTSTART;TZID=America/New_York:20270226T180000
DTEND;TZID=America/New_York:20270226T200000
DTSTAMP:20260424T113125
CREATED:20260119T222041Z
LAST-MODIFIED:20260119T222041Z
UID:10005948-1803664800-1803672000@whitefieldlibrary.org
SUMMARY:Monthly Swing Dance Lesson
DESCRIPTION:Our monthly swing dancing lessons\, led by Jim Ostiguy\, will take place the last Friday of every month from 6-8 P.M. in our upstairs space.\n$5 suggested donation per person.
URL:https://whitefieldlibrary.org/event/monthly-swing-dance-lesson/2027-02-26/
LOCATION:Whitefield Library & Community Center\, 1 Arlington Lane\, Whitefield\, ME\, 04353
ATTACH;FMTTYPE=image/jpeg:https://whitefieldlibrary.org/wp-content/uploads/Swing-Dancing-02.jpg
ORGANIZER;CN="Whitefield Library Association":MAILTO:Info@whitefieldlibrary.org
END:VEVENT
BEGIN:VEVENT
DTSTART;TZID=America/New_York:20270326T180000
DTEND;TZID=America/New_York:20270326T200000
DTSTAMP:20260424T113125
CREATED:20260119T222041Z
LAST-MODIFIED:20260119T222041Z
UID:10005949-1806084000-1806091200@whitefieldlibrary.org
SUMMARY:Monthly Swing Dance Lesson
DESCRIPTION:Our monthly swing dancing lessons\, led by Jim Ostiguy\, will take place the last Friday of every month from 6-8 P.M. in our upstairs space.\n$5 suggested donation per person.
URL:https://whitefieldlibrary.org/event/monthly-swing-dance-lesson/2027-03-26/
LOCATION:Whitefield Library & Community Center\, 1 Arlington Lane\, Whitefield\, ME\, 04353
ATTACH;FMTTYPE=image/jpeg:https://whitefieldlibrary.org/wp-content/uploads/Swing-Dancing-02.jpg
ORGANIZER;CN="Whitefield Library Association":MAILTO:Info@whitefieldlibrary.org
END:VEVENT
BEGIN:VEVENT
DTSTART;TZID=America/New_York:20270430T180000
DTEND;TZID=America/New_York:20270430T200000
DTSTAMP:20260424T113125
CREATED:20260119T222041Z
LAST-MODIFIED:20260119T222041Z
UID:10005950-1809108000-1809115200@whitefieldlibrary.org
SUMMARY:Monthly Swing Dance Lesson
DESCRIPTION:Our monthly swing dancing lessons\, led by Jim Ostiguy\, will take place the last Friday of every month from 6-8 P.M. in our upstairs space.\n$5 suggested donation per person.
URL:https://whitefieldlibrary.org/event/monthly-swing-dance-lesson/2027-04-30/
LOCATION:Whitefield Library & Community Center\, 1 Arlington Lane\, Whitefield\, ME\, 04353
ATTACH;FMTTYPE=image/jpeg:https://whitefieldlibrary.org/wp-content/uploads/Swing-Dancing-02.jpg
ORGANIZER;CN="Whitefield Library Association":MAILTO:Info@whitefieldlibrary.org
END:VEVENT
BEGIN:VEVENT
DTSTART;TZID=America/New_York:20270528T180000
DTEND;TZID=America/New_York:20270528T200000
DTSTAMP:20260424T113125
CREATED:20260119T222041Z
LAST-MODIFIED:20260119T222041Z
UID:10005951-1811527200-1811534400@whitefieldlibrary.org
SUMMARY:Monthly Swing Dance Lesson
DESCRIPTION:Our monthly swing dancing lessons\, led by Jim Ostiguy\, will take place the last Friday of every month from 6-8 P.M. in our upstairs space.\n$5 suggested donation per person.
URL:https://whitefieldlibrary.org/event/monthly-swing-dance-lesson/2027-05-28/
LOCATION:Whitefield Library & Community Center\, 1 Arlington Lane\, Whitefield\, ME\, 04353
ATTACH;FMTTYPE=image/jpeg:https://whitefieldlibrary.org/wp-content/uploads/Swing-Dancing-02.jpg
ORGANIZER;CN="Whitefield Library Association":MAILTO:Info@whitefieldlibrary.org
END:VEVENT
BEGIN:VEVENT
DTSTART;TZID=America/New_York:20270625T180000
DTEND;TZID=America/New_York:20270625T200000
DTSTAMP:20260424T113125
CREATED:20260119T222041Z
LAST-MODIFIED:20260119T222041Z
UID:10005952-1813946400-1813953600@whitefieldlibrary.org
SUMMARY:Monthly Swing Dance Lesson
DESCRIPTION:Our monthly swing dancing lessons\, led by Jim Ostiguy\, will take place the last Friday of every month from 6-8 P.M. in our upstairs space.\n$5 suggested donation per person.
URL:https://whitefieldlibrary.org/event/monthly-swing-dance-lesson/2027-06-25/
LOCATION:Whitefield Library & Community Center\, 1 Arlington Lane\, Whitefield\, ME\, 04353
ATTACH;FMTTYPE=image/jpeg:https://whitefieldlibrary.org/wp-content/uploads/Swing-Dancing-02.jpg
ORGANIZER;CN="Whitefield Library Association":MAILTO:Info@whitefieldlibrary.org
END:VEVENT
BEGIN:VEVENT
DTSTART;TZID=America/New_York:20270730T180000
DTEND;TZID=America/New_York:20270730T200000
DTSTAMP:20260424T113125
CREATED:20260119T222041Z
LAST-MODIFIED:20260119T222041Z
UID:10005953-1816970400-1816977600@whitefieldlibrary.org
SUMMARY:Monthly Swing Dance Lesson
DESCRIPTION:Our monthly swing dancing lessons\, led by Jim Ostiguy\, will take place the last Friday of every month from 6-8 P.M. in our upstairs space.\n$5 suggested donation per person.
URL:https://whitefieldlibrary.org/event/monthly-swing-dance-lesson/2027-07-30/
LOCATION:Whitefield Library & Community Center\, 1 Arlington Lane\, Whitefield\, ME\, 04353
ATTACH;FMTTYPE=image/jpeg:https://whitefieldlibrary.org/wp-content/uploads/Swing-Dancing-02.jpg
ORGANIZER;CN="Whitefield Library Association":MAILTO:Info@whitefieldlibrary.org
END:VEVENT
BEGIN:VEVENT
DTSTART;TZID=America/New_York:20270827T180000
DTEND;TZID=America/New_York:20270827T200000
DTSTAMP:20260424T113125
CREATED:20260119T222041Z
LAST-MODIFIED:20260119T222041Z
UID:10005954-1819389600-1819396800@whitefieldlibrary.org
SUMMARY:Monthly Swing Dance Lesson
DESCRIPTION:Our monthly swing dancing lessons\, led by Jim Ostiguy\, will take place the last Friday of every month from 6-8 P.M. in our upstairs space.\n$5 suggested donation per person.
URL:https://whitefieldlibrary.org/event/monthly-swing-dance-lesson/2027-08-27/
LOCATION:Whitefield Library & Community Center\, 1 Arlington Lane\, Whitefield\, ME\, 04353
ATTACH;FMTTYPE=image/jpeg:https://whitefieldlibrary.org/wp-content/uploads/Swing-Dancing-02.jpg
ORGANIZER;CN="Whitefield Library Association":MAILTO:Info@whitefieldlibrary.org
END:VEVENT
BEGIN:VEVENT
DTSTART;TZID=America/New_York:20270924T180000
DTEND;TZID=America/New_York:20270924T200000
DTSTAMP:20260424T113125
CREATED:20260119T222041Z
LAST-MODIFIED:20260119T222041Z
UID:10005955-1821808800-1821816000@whitefieldlibrary.org
SUMMARY:Monthly Swing Dance Lesson
DESCRIPTION:Our monthly swing dancing lessons\, led by Jim Ostiguy\, will take place the last Friday of every month from 6-8 P.M. in our upstairs space.\n$5 suggested donation per person.
URL:https://whitefieldlibrary.org/event/monthly-swing-dance-lesson/2027-09-24/
LOCATION:Whitefield Library & Community Center\, 1 Arlington Lane\, Whitefield\, ME\, 04353
ATTACH;FMTTYPE=image/jpeg:https://whitefieldlibrary.org/wp-content/uploads/Swing-Dancing-02.jpg
ORGANIZER;CN="Whitefield Library Association":MAILTO:Info@whitefieldlibrary.org
END:VEVENT
BEGIN:VEVENT
DTSTART;TZID=America/New_York:20271029T180000
DTEND;TZID=America/New_York:20271029T200000
DTSTAMP:20260424T113125
CREATED:20260119T222041Z
LAST-MODIFIED:20260119T222041Z
UID:10005956-1824832800-1824840000@whitefieldlibrary.org
SUMMARY:Monthly Swing Dance Lesson
DESCRIPTION:Our monthly swing dancing lessons\, led by Jim Ostiguy\, will take place the last Friday of every month from 6-8 P.M. in our upstairs space.\n$5 suggested donation per person.
URL:https://whitefieldlibrary.org/event/monthly-swing-dance-lesson/2027-10-29/
LOCATION:Whitefield Library & Community Center\, 1 Arlington Lane\, Whitefield\, ME\, 04353
ATTACH;FMTTYPE=image/jpeg:https://whitefieldlibrary.org/wp-content/uploads/Swing-Dancing-02.jpg
ORGANIZER;CN="Whitefield Library Association":MAILTO:Info@whitefieldlibrary.org
END:VEVENT
BEGIN:VEVENT
DTSTART;TZID=America/New_York:20271126T180000
DTEND;TZID=America/New_York:20271126T200000
DTSTAMP:20260424T113125
CREATED:20260119T222041Z
LAST-MODIFIED:20260119T222041Z
UID:10005957-1827252000-1827259200@whitefieldlibrary.org
SUMMARY:Monthly Swing Dance Lesson
DESCRIPTION:Our monthly swing dancing lessons\, led by Jim Ostiguy\, will take place the last Friday of every month from 6-8 P.M. in our upstairs space.\n$5 suggested donation per person.
URL:https://whitefieldlibrary.org/event/monthly-swing-dance-lesson/2027-11-26/
LOCATION:Whitefield Library & Community Center\, 1 Arlington Lane\, Whitefield\, ME\, 04353
ATTACH;FMTTYPE=image/jpeg:https://whitefieldlibrary.org/wp-content/uploads/Swing-Dancing-02.jpg
ORGANIZER;CN="Whitefield Library Association":MAILTO:Info@whitefieldlibrary.org
END:VEVENT
BEGIN:VEVENT
DTSTART;TZID=America/New_York:20271231T180000
DTEND;TZID=America/New_York:20271231T200000
DTSTAMP:20260424T113125
CREATED:20260119T222041Z
LAST-MODIFIED:20260119T222041Z
UID:10005958-1830276000-1830283200@whitefieldlibrary.org
SUMMARY:Monthly Swing Dance Lesson
DESCRIPTION:Our monthly swing dancing lessons\, led by Jim Ostiguy\, will take place the last Friday of every month from 6-8 P.M. in our upstairs space.\n$5 suggested donation per person.
URL:https://whitefieldlibrary.org/event/monthly-swing-dance-lesson/2027-12-31/
LOCATION:Whitefield Library & Community Center\, 1 Arlington Lane\, Whitefield\, ME\, 04353
ATTACH;FMTTYPE=image/jpeg:https://whitefieldlibrary.org/wp-content/uploads/Swing-Dancing-02.jpg
ORGANIZER;CN="Whitefield Library Association":MAILTO:Info@whitefieldlibrary.org
END:VEVENT
BEGIN:VEVENT
DTSTART;TZID=America/New_York:20280128T180000
DTEND;TZID=America/New_York:20280128T200000
DTSTAMP:20260424T113125
CREATED:20260119T222041Z
LAST-MODIFIED:20260119T222041Z
UID:10005959-1832695200-1832702400@whitefieldlibrary.org
SUMMARY:Monthly Swing Dance Lesson
DESCRIPTION:Our monthly swing dancing lessons\, led by Jim Ostiguy\, will take place the last Friday of every month from 6-8 P.M. in our upstairs space.\n$5 suggested donation per person.
URL:https://whitefieldlibrary.org/event/monthly-swing-dance-lesson/2028-01-28/
LOCATION:Whitefield Library & Community Center\, 1 Arlington Lane\, Whitefield\, ME\, 04353
ATTACH;FMTTYPE=image/jpeg:https://whitefieldlibrary.org/wp-content/uploads/Swing-Dancing-02.jpg
ORGANIZER;CN="Whitefield Library Association":MAILTO:Info@whitefieldlibrary.org
END:VEVENT
BEGIN:VEVENT
DTSTART;TZID=America/New_York:20280225T180000
DTEND;TZID=America/New_York:20280225T200000
DTSTAMP:20260424T113125
CREATED:20260119T222041Z
LAST-MODIFIED:20260119T222041Z
UID:10005960-1835114400-1835121600@whitefieldlibrary.org
SUMMARY:Monthly Swing Dance Lesson
DESCRIPTION:Our monthly swing dancing lessons\, led by Jim Ostiguy\, will take place the last Friday of every month from 6-8 P.M. in our upstairs space.\n$5 suggested donation per person.
URL:https://whitefieldlibrary.org/event/monthly-swing-dance-lesson/2028-02-25/
LOCATION:Whitefield Library & Community Center\, 1 Arlington Lane\, Whitefield\, ME\, 04353
ATTACH;FMTTYPE=image/jpeg:https://whitefieldlibrary.org/wp-content/uploads/Swing-Dancing-02.jpg
ORGANIZER;CN="Whitefield Library Association":MAILTO:Info@whitefieldlibrary.org
END:VEVENT
BEGIN:VEVENT
DTSTART;TZID=America/New_York:20280331T180000
DTEND;TZID=America/New_York:20280331T200000
DTSTAMP:20260424T113125
CREATED:20260119T222041Z
LAST-MODIFIED:20260119T222041Z
UID:10005961-1838138400-1838145600@whitefieldlibrary.org
SUMMARY:Monthly Swing Dance Lesson
DESCRIPTION:Our monthly swing dancing lessons\, led by Jim Ostiguy\, will take place the last Friday of every month from 6-8 P.M. in our upstairs space.\n$5 suggested donation per person.
URL:https://whitefieldlibrary.org/event/monthly-swing-dance-lesson/2028-03-31/
LOCATION:Whitefield Library & Community Center\, 1 Arlington Lane\, Whitefield\, ME\, 04353
ATTACH;FMTTYPE=image/jpeg:https://whitefieldlibrary.org/wp-content/uploads/Swing-Dancing-02.jpg
ORGANIZER;CN="Whitefield Library Association":MAILTO:Info@whitefieldlibrary.org
END:VEVENT
BEGIN:VEVENT
DTSTART;TZID=America/New_York:20280428T180000
DTEND;TZID=America/New_York:20280428T200000
DTSTAMP:20260424T113125
CREATED:20260119T222041Z
LAST-MODIFIED:20260119T222041Z
UID:10005962-1840557600-1840564800@whitefieldlibrary.org
SUMMARY:Monthly Swing Dance Lesson
DESCRIPTION:Our monthly swing dancing lessons\, led by Jim Ostiguy\, will take place the last Friday of every month from 6-8 P.M. in our upstairs space.\n$5 suggested donation per person.
URL:https://whitefieldlibrary.org/event/monthly-swing-dance-lesson/2028-04-28/
LOCATION:Whitefield Library & Community Center\, 1 Arlington Lane\, Whitefield\, ME\, 04353
ATTACH;FMTTYPE=image/jpeg:https://whitefieldlibrary.org/wp-content/uploads/Swing-Dancing-02.jpg
ORGANIZER;CN="Whitefield Library Association":MAILTO:Info@whitefieldlibrary.org
END:VEVENT
BEGIN:VEVENT
DTSTART;TZID=America/New_York:20280526T180000
DTEND;TZID=America/New_York:20280526T200000
DTSTAMP:20260424T113125
CREATED:20260119T222041Z
LAST-MODIFIED:20260119T222041Z
UID:10005963-1842976800-1842984000@whitefieldlibrary.org
SUMMARY:Monthly Swing Dance Lesson
DESCRIPTION:Our monthly swing dancing lessons\, led by Jim Ostiguy\, will take place the last Friday of every month from 6-8 P.M. in our upstairs space.\n$5 suggested donation per person.
URL:https://whitefieldlibrary.org/event/monthly-swing-dance-lesson/2028-05-26/
LOCATION:Whitefield Library & Community Center\, 1 Arlington Lane\, Whitefield\, ME\, 04353
ATTACH;FMTTYPE=image/jpeg:https://whitefieldlibrary.org/wp-content/uploads/Swing-Dancing-02.jpg
ORGANIZER;CN="Whitefield Library Association":MAILTO:Info@whitefieldlibrary.org
END:VEVENT
BEGIN:VEVENT
DTSTART;TZID=America/New_York:20280630T180000
DTEND;TZID=America/New_York:20280630T200000
DTSTAMP:20260424T113125
CREATED:20260119T222041Z
LAST-MODIFIED:20260119T222041Z
UID:10005964-1846000800-1846008000@whitefieldlibrary.org
SUMMARY:Monthly Swing Dance Lesson
DESCRIPTION:Our monthly swing dancing lessons\, led by Jim Ostiguy\, will take place the last Friday of every month from 6-8 P.M. in our upstairs space.\n$5 suggested donation per person.
URL:https://whitefieldlibrary.org/event/monthly-swing-dance-lesson/2028-06-30/
LOCATION:Whitefield Library & Community Center\, 1 Arlington Lane\, Whitefield\, ME\, 04353
ATTACH;FMTTYPE=image/jpeg:https://whitefieldlibrary.org/wp-content/uploads/Swing-Dancing-02.jpg
ORGANIZER;CN="Whitefield Library Association":MAILTO:Info@whitefieldlibrary.org
END:VEVENT
BEGIN:VEVENT
DTSTART;TZID=America/New_York:20280728T180000
DTEND;TZID=America/New_York:20280728T200000
DTSTAMP:20260424T113125
CREATED:20260119T222041Z
LAST-MODIFIED:20260119T222041Z
UID:10005965-1848420000-1848427200@whitefieldlibrary.org
SUMMARY:Monthly Swing Dance Lesson
DESCRIPTION:Our monthly swing dancing lessons\, led by Jim Ostiguy\, will take place the last Friday of every month from 6-8 P.M. in our upstairs space.\n$5 suggested donation per person.
URL:https://whitefieldlibrary.org/event/monthly-swing-dance-lesson/2028-07-28/
LOCATION:Whitefield Library & Community Center\, 1 Arlington Lane\, Whitefield\, ME\, 04353
ATTACH;FMTTYPE=image/jpeg:https://whitefieldlibrary.org/wp-content/uploads/Swing-Dancing-02.jpg
ORGANIZER;CN="Whitefield Library Association":MAILTO:Info@whitefieldlibrary.org
END:VEVENT
BEGIN:VEVENT
DTSTART;TZID=America/New_York:20280825T180000
DTEND;TZID=America/New_York:20280825T200000
DTSTAMP:20260424T113125
CREATED:20260119T222041Z
LAST-MODIFIED:20260119T222041Z
UID:10005966-1850839200-1850846400@whitefieldlibrary.org
SUMMARY:Monthly Swing Dance Lesson
DESCRIPTION:Our monthly swing dancing lessons\, led by Jim Ostiguy\, will take place the last Friday of every month from 6-8 P.M. in our upstairs space.\n$5 suggested donation per person.
URL:https://whitefieldlibrary.org/event/monthly-swing-dance-lesson/2028-08-25/
LOCATION:Whitefield Library & Community Center\, 1 Arlington Lane\, Whitefield\, ME\, 04353
ATTACH;FMTTYPE=image/jpeg:https://whitefieldlibrary.org/wp-content/uploads/Swing-Dancing-02.jpg
ORGANIZER;CN="Whitefield Library Association":MAILTO:Info@whitefieldlibrary.org
END:VEVENT
BEGIN:VEVENT
DTSTART;TZID=America/New_York:20280929T180000
DTEND;TZID=America/New_York:20280929T200000
DTSTAMP:20260424T113125
CREATED:20260119T222041Z
LAST-MODIFIED:20260119T222041Z
UID:10005967-1853863200-1853870400@whitefieldlibrary.org
SUMMARY:Monthly Swing Dance Lesson
DESCRIPTION:Our monthly swing dancing lessons\, led by Jim Ostiguy\, will take place the last Friday of every month from 6-8 P.M. in our upstairs space.\n$5 suggested donation per person.
URL:https://whitefieldlibrary.org/event/monthly-swing-dance-lesson/2028-09-29/
LOCATION:Whitefield Library & Community Center\, 1 Arlington Lane\, Whitefield\, ME\, 04353
ATTACH;FMTTYPE=image/jpeg:https://whitefieldlibrary.org/wp-content/uploads/Swing-Dancing-02.jpg
ORGANIZER;CN="Whitefield Library Association":MAILTO:Info@whitefieldlibrary.org
END:VEVENT
END:VCALENDAR