BEGIN:VCALENDAR
VERSION:2.0
PRODID:-//The Whitefield Library - ECPv6.15.20//NONSGML v1.0//EN
CALSCALE:GREGORIAN
METHOD:PUBLISH
X-WR-CALNAME:The Whitefield Library
X-ORIGINAL-URL:https://whitefieldlibrary.org
X-WR-CALDESC:Events for The Whitefield Library
REFRESH-INTERVAL;VALUE=DURATION:PT1H
X-Robots-Tag:noindex
X-PUBLISHED-TTL:PT1H
BEGIN:VTIMEZONE
TZID:America/New_York
BEGIN:DAYLIGHT
TZOFFSETFROM:-0500
TZOFFSETTO:-0400
TZNAME:EDT
DTSTART:20230312T070000
END:DAYLIGHT
BEGIN:STANDARD
TZOFFSETFROM:-0400
TZOFFSETTO:-0500
TZNAME:EST
DTSTART:20231105T060000
END:STANDARD
BEGIN:DAYLIGHT
TZOFFSETFROM:-0500
TZOFFSETTO:-0400
TZNAME:EDT
DTSTART:20240310T070000
END:DAYLIGHT
BEGIN:STANDARD
TZOFFSETFROM:-0400
TZOFFSETTO:-0500
TZNAME:EST
DTSTART:20241103T060000
END:STANDARD
BEGIN:DAYLIGHT
TZOFFSETFROM:-0500
TZOFFSETTO:-0400
TZNAME:EDT
DTSTART:20250309T070000
END:DAYLIGHT
BEGIN:STANDARD
TZOFFSETFROM:-0400
TZOFFSETTO:-0500
TZNAME:EST
DTSTART:20251102T060000
END:STANDARD
BEGIN:DAYLIGHT
TZOFFSETFROM:-0500
TZOFFSETTO:-0400
TZNAME:EDT
DTSTART:20260308T070000
END:DAYLIGHT
BEGIN:STANDARD
TZOFFSETFROM:-0400
TZOFFSETTO:-0500
TZNAME:EST
DTSTART:20261101T060000
END:STANDARD
END:VTIMEZONE
BEGIN:VEVENT
DTSTART;TZID=America/New_York:20250708T183000
DTEND;TZID=America/New_York:20250708T193000
DTSTAMP:20260423T174656
CREATED:20250626T141646Z
LAST-MODIFIED:20250626T141646Z
UID:10005654-1751999400-1752003000@whitefieldlibrary.org
SUMMARY:Summer Reading Program Kickoff
DESCRIPTION:Join us at the library on July 8 to kick off an unforgettable summer of reading and belonging!\nThis year’s theme is “Reading Around the World”\, and every reader will receive their very own passport to track all the wonderful places they’ll visit with each book they read. \nAfter reading 10 books\, each reader can redeem a coupon for a free slice of cheese pizza\, donated by Sheepscot General! Ice cream generously donated by The Jefferson Scoop. \nThe program will take place from July 8 – August 18.
URL:https://whitefieldlibrary.org/event/summer-reading-program-kickoff/
LOCATION:Whitefield Library & Community Center\, 1 Arlington Lane\, Whitefield\, ME\, 04353
ORGANIZER;CN="Whitefield Library Association":MAILTO:Info@whitefieldlibrary.org
END:VEVENT
BEGIN:VEVENT
DTSTART;TZID=America/New_York:20250628T080000
DTEND;TZID=America/New_York:20250628T120000
DTSTAMP:20260423T174656
CREATED:20250528T155433Z
LAST-MODIFIED:20250528T155433Z
UID:10005647-1751097600-1751112000@whitefieldlibrary.org
SUMMARY:Whitefield Library Yard Sale June 28 from 8 a.m. - 12 p.m.
DESCRIPTION:Dontations accepted: \nThurs. June 26\, 1 – 6 p.m. & Friday\, June 27\, 1 – 6 pm \nWe will gladly accept: household items\, furniture\, toys\, craft supplies\, outdoor equipment/garden\, decorative items (sorry\, no clothing/shoes/books!) All proceeds benefit the library!
URL:https://whitefieldlibrary.org/event/whitefield-library-yard-sale-june-28-from-8-a-m-12-p-m/
LOCATION:Whitefield Library & Community Center\, 1 Arlington Lane\, Whitefield\, ME\, 04353
ORGANIZER;CN="Whitefield Library Association":MAILTO:Info@whitefieldlibrary.org
END:VEVENT
BEGIN:VEVENT
DTSTART;TZID=America/New_York:20250621T180000
DTEND;TZID=America/New_York:20250621T193000
DTSTAMP:20260423T174656
CREATED:20250323T174847Z
LAST-MODIFIED:20250323T174847Z
UID:10005519-1750528800-1750534200@whitefieldlibrary.org
SUMMARY:Author Talk Series - Peggy DeBlois
DESCRIPTION:Join us June 21 at 6 p.m. for an author talk with Peggy DeBlois! 
URL:https://whitefieldlibrary.org/event/author-talk-series-peggy-deblois/
LOCATION:Whitefield Library & Community Center\, 1 Arlington Lane\, Whitefield\, ME\, 04353
ORGANIZER;CN="Whitefield Library Association":MAILTO:Info@whitefieldlibrary.org
END:VEVENT
BEGIN:VEVENT
DTSTART;TZID=America/New_York:20250517T140000
DTEND;TZID=America/New_York:20250517T153000
DTSTAMP:20260423T174656
CREATED:20250323T174527Z
LAST-MODIFIED:20250508T183047Z
UID:10005518-1747490400-1747495800@whitefieldlibrary.org
SUMMARY:Author Talk Series - Marpheen Chann
DESCRIPTION:Join us May 17 at 2 p.m. for an author talk with Marpheen Chann! 
URL:https://whitefieldlibrary.org/event/author-talk-series-marpheen-chann/
LOCATION:Whitefield Library & Community Center\, 1 Arlington Lane\, Whitefield\, ME\, 04353
ORGANIZER;CN="Whitefield Library Association":MAILTO:Info@whitefieldlibrary.org
END:VEVENT
BEGIN:VEVENT
DTSTART;TZID=America/New_York:20250426T180000
DTEND;TZID=America/New_York:20250426T200000
DTSTAMP:20260423T174656
CREATED:20250407T180337Z
LAST-MODIFIED:20250408T204751Z
UID:10005530-1745690400-1745697600@whitefieldlibrary.org
SUMMARY:An Evening of Music with Jim Gallant
DESCRIPTION:Join us for a very special musical event with artist Jim Gallant on April 26 from 6-8 p.m. \nDue to parking and seating capacity at the library\, a limited number of free tickets are available for the show. To secure yours\, stop into the library during our business hours\, Wednesdays & Thursdays from 1 p.m. to 5 p.m. and  Fridays & Saturdays 10 a.m. to 1p.m. \nWhether performing at a college concert or an outdoor festival\, Jim Gallant’s music has never failed to capture the hearts and feet of his audience. His up tempo guitar style\, mix of catchy originals and masterful interpretations of contemporary music leaves his audience feeling fully satisfied.
URL:https://whitefieldlibrary.org/event/an-evening-of-music-with-jim-gallant/
LOCATION:Whitefield Library & Community Center\, 1 Arlington Lane\, Whitefield\, ME\, 04353
ORGANIZER;CN="Whitefield Library Association":MAILTO:Info@whitefieldlibrary.org
END:VEVENT
BEGIN:VEVENT
DTSTART;TZID=America/New_York:20250412T140000
DTEND;TZID=America/New_York:20250412T153000
DTSTAMP:20260423T174656
CREATED:20250323T174414Z
LAST-MODIFIED:20250323T174414Z
UID:10005517-1744466400-1744471800@whitefieldlibrary.org
SUMMARY:Author Talk Series - Ellen Baker
DESCRIPTION:Join us April 12 at 2 p.m. for an author talk with Ellen Baker! 
URL:https://whitefieldlibrary.org/event/author-talk-series-ellen-baker/
LOCATION:Whitefield Library & Community Center\, 1 Arlington Lane\, Whitefield\, ME\, 04353
ORGANIZER;CN="Whitefield Library Association":MAILTO:Info@whitefieldlibrary.org
END:VEVENT
BEGIN:VEVENT
DTSTART;TZID=America/New_York:20250404T180000
DTEND;TZID=America/New_York:20250404T193000
DTSTAMP:20260423T174656
CREATED:20250320T144328Z
LAST-MODIFIED:20250320T144338Z
UID:10005255-1743789600-1743795000@whitefieldlibrary.org
SUMMARY:First Friday Art Night
DESCRIPTION:Please join us for a reception welcoming Whitefield artist Celine Lombardi.
URL:https://whitefieldlibrary.org/event/first-friday-art-night-2/
LOCATION:Whitefield Library & Community Center\, 1 Arlington Lane\, Whitefield\, ME\, 04353
ORGANIZER;CN="Whitefield Library Association":MAILTO:Info@whitefieldlibrary.org
END:VEVENT
BEGIN:VEVENT
DTSTART;TZID=America/New_York:20250321T180000
DTEND;TZID=America/New_York:20250321T200000
DTSTAMP:20260423T174656
CREATED:20250308T203306Z
LAST-MODIFIED:20250308T203306Z
UID:10005253-1742580000-1742587200@whitefieldlibrary.org
SUMMARY:Winter Music Series Friday\, March 21
DESCRIPTION:Join us for the final installment of our winter music series in our beautifully renovated upstairs space! \nAcoustic performances by Bertie Koller and Gbinga. Suggested donation: $10
URL:https://whitefieldlibrary.org/event/winter-music-series-friday-march-21/
LOCATION:Whitefield Library & Community Center\, 1 Arlington Lane\, Whitefield\, ME\, 04353
ORGANIZER;CN="Whitefield Library Association":MAILTO:Info@whitefieldlibrary.org
END:VEVENT
BEGIN:VEVENT
DTSTART;TZID=America/New_York:20250307T180000
DTEND;TZID=America/New_York:20250307T193000
DTSTAMP:20260423T174656
CREATED:20250303T144406Z
LAST-MODIFIED:20250303T144406Z
UID:10004991-1741370400-1741375800@whitefieldlibrary.org
SUMMARY:First Friday Art Night
DESCRIPTION:Please join us at the library on Friday March 7 from 6-7:30pm as we continue our First Friday Art Night gatherings with an artist reception for Rachael Richmond.  We are delighted to welcome Rachael back to the library and display her beautiful watercolor paintings\, which will also be for sale\, throughout the month of March. \nRachael Richmond is a local artist and teacher from Jefferson\, Maine. She lives on a farm with her husband\, Dave\, and son\, Eric. Her daughter\, Olivia\, lives in Round Pond.
URL:https://whitefieldlibrary.org/event/first-friday-art-night/
LOCATION:Whitefield Library & Community Center\, 1 Arlington Lane\, Whitefield\, ME\, 04353
ATTACH;FMTTYPE=image/png:https://whitefieldlibrary.org/wp-content/uploads/Art-Night_Mar_website.png
ORGANIZER;CN="Whitefield Library Association":MAILTO:Info@whitefieldlibrary.org
END:VEVENT
BEGIN:VEVENT
DTSTART;TZID=America/New_York:20250220T160000
DTEND;TZID=America/New_York:20250220T170000
DTSTAMP:20260423T174656
CREATED:20250123T165912Z
LAST-MODIFIED:20250123T165912Z
UID:10004979-1740067200-1740070800@whitefieldlibrary.org
SUMMARY:Teen Book Club
DESCRIPTION:Join us at the Whitefield Library every third Thursday at 4 pm!
URL:https://whitefieldlibrary.org/event/teen-book-club/
LOCATION:Whitefield Library & Community Center\, 1 Arlington Lane\, Whitefield\, ME\, 04353
CATEGORIES:Library News,News
ATTACH;FMTTYPE=image/png:https://whitefieldlibrary.org/wp-content/uploads/teen-book.png
ORGANIZER;CN="Whitefield Library Association":MAILTO:Info@whitefieldlibrary.org
END:VEVENT
BEGIN:VEVENT
DTSTART;TZID=America/New_York:20250207T180000
DTEND;TZID=America/New_York:20250207T190000
DTSTAMP:20260423T174656
CREATED:20250120T203906Z
LAST-MODIFIED:20250120T203934Z
UID:10004702-1738951200-1738954800@whitefieldlibrary.org
SUMMARY:First Friday Art Night
DESCRIPTION:  \nJoin us for an artist’s reception honoring Barbara Vanderbilt on Friday\, February 7 at 6 pm. \nBarbara’s art will be on display all month.
URL:https://whitefieldlibrary.org/event/first-friday-art-night-feb-7-at-6-pm/
LOCATION:Whitefield Library & Community Center\, 1 Arlington Lane\, Whitefield\, ME\, 04353
ATTACH;FMTTYPE=image/png:https://whitefieldlibrary.org/wp-content/uploads/Art-Night_Feb_website-1.png
ORGANIZER;CN="Whitefield Library Association":MAILTO:Info@whitefieldlibrary.org
END:VEVENT
BEGIN:VEVENT
DTSTART;TZID=America/New_York:20250131T180000
DTEND;TZID=America/New_York:20250131T190000
DTSTAMP:20260423T174656
CREATED:20250123T164509Z
LAST-MODIFIED:20250130T211250Z
UID:10004978-1738346400-1738350000@whitefieldlibrary.org
SUMMARY:Live Music Series Featuring Sigrid Sibley and Seth Gallant!
DESCRIPTION:Join us on January 31 at 6 pm!
URL:https://whitefieldlibrary.org/event/live-music-series-featuring-sigurd-and-seth/
LOCATION:Whitefield Library & Community Center\, 1 Arlington Lane\, Whitefield\, ME\, 04353
CATEGORIES:Library News,News
ATTACH;FMTTYPE=image/png:https://whitefieldlibrary.org/wp-content/uploads/Copy-of-FRI-31.png
ORGANIZER;CN="Whitefield Library Association":MAILTO:Info@whitefieldlibrary.org
END:VEVENT
BEGIN:VEVENT
DTSTART;TZID=America/New_York:20250124T103000
DTEND;TZID=America/New_York:20250124T103000
DTSTAMP:20260423T174656
CREATED:20250123T150731Z
LAST-MODIFIED:20250123T153348Z
UID:10002961-1737714600-1737714600@whitefieldlibrary.org
SUMMARY:Storytime with Dawna - Every Friday @ 10:30am
DESCRIPTION:Join us every Friday at 10:30 with Dawna for stories\, songs\, poems\, and play! \n  \n \n  \n 
URL:https://whitefieldlibrary.org/event/storytime-for-littles-every-friday-1030-1130-2/
LOCATION:Whitefield Library & Community Center\, 1 Arlington Lane\, Whitefield\, ME\, 04353
CATEGORIES:Library News,News
ATTACH;FMTTYPE=image/png:https://whitefieldlibrary.org/wp-content/uploads/Story-Time.png
ORGANIZER;CN="Whitefield Library Association":MAILTO:Info@whitefieldlibrary.org
END:VEVENT
BEGIN:VEVENT
DTSTART;TZID=America/New_York:20250117T180000
DTEND;TZID=America/New_York:20250117T193000
DTSTAMP:20260423T174656
CREATED:20250117T170450Z
LAST-MODIFIED:20250117T171032Z
UID:10004697-1737136800-1737142200@whitefieldlibrary.org
SUMMARY:First Friday Art Night February 7 @ 6 pm
DESCRIPTION:Join us for areception honoring Barbara Vanderbilt on Friday\, February 7 at 6 pm. \nA little bit about Barbara: \nThe beauty of the trees and rock formations on the coast of Maine is something that I can never get enough of. I love their shapes and textures and the stories they tell.  I try to convey the interplay between  strength and delicacy. The contrast between the peacefulness of the moment and the rough changes that nature brings in the way of seasonal variation\, erosion and storm gives me endless material for painting and meditation!. We are such a part of nature and we need to really listen to what she tells us. Will Durant has said that “Civilization lives by geological consent…” and it so true. \nI grew up in northern New Jersey on a small lake surrounded by woods. I was not a particularly social child and spent many hours  enjoying the  peacefulness of my surroundings. When I moved to Maine in 1971 these feelings were much amplified. When I discovered pastels I found this medium very exciting and one that lent itself so readily to self expression.
URL:https://whitefieldlibrary.org/event/first-friday-art-night-february-7-6-pm/
LOCATION:Whitefield Library & Community Center\, 1 Arlington Lane\, Whitefield\, ME\, 04353
ORGANIZER;CN="Whitefield Library Association":MAILTO:Info@whitefieldlibrary.org
END:VEVENT
BEGIN:VEVENT
DTSTART;TZID=America/New_York:20241208T140000
DTEND;TZID=America/New_York:20241208T170000
DTSTAMP:20260423T174656
CREATED:20241121T142939Z
LAST-MODIFIED:20241121T142940Z
UID:10004649-1733666400-1733677200@whitefieldlibrary.org
SUMMARY:Come celebrate the holidays with us!
DESCRIPTION:Sunday\, December 8 beginning at 2pm! Rudolph\, Frosty\, and Olaf will entertain us on the BIG screen. Free popcorn and hot cocoa. Bring blankets\, pillows\, stuffies and get cozy. Don’t forget your pajamas!!
URL:https://whitefieldlibrary.org/event/come-celebrate-the-holidays-with-us/
LOCATION:Whitefield Library & Community Center\, 1 Arlington Lane\, Whitefield\, ME\, 04353
CATEGORIES:Library News,News
ATTACH;FMTTYPE=image/png:https://whitefieldlibrary.org/wp-content/uploads/Add-a-heading-1-1.png
ORGANIZER;CN="Whitefield Library Association":MAILTO:Info@whitefieldlibrary.org
END:VEVENT
BEGIN:VEVENT
DTSTART;TZID=America/New_York:20241206T180000
DTEND;TZID=America/New_York:20241206T193000
DTSTAMP:20260423T174656
CREATED:20241122T195706Z
LAST-MODIFIED:20241122T195706Z
UID:10004650-1733508000-1733513400@whitefieldlibrary.org
SUMMARY:First Friday Art Night with Mike Johnson: Friday\,  December 6 @ 6pm
DESCRIPTION:Join us for a reception honoring Mike Johnson on Friday\, December 6 @ 6pm. \n\nA little about Mike: \nFor 20 years\, Mike Johnson has been drawn toward the ancient craft of functional ceramics.\nMike and his family moved to their Whitefield farmstead in 2012\, finding a place to create a\nhand built life. When away from the potter’s wheel\, you will find him volunteering with Whitefield\nFire/EMS\, teaching clay classes at Kennebec Clay Works in Augusta\, or playing guitar.  You\nare invited to a showcase of clay and heat\, form and function; a synthesis of handmade pottery\nintended for domestic use. Mike is excited to share his passion for makers and making\, and\nwelcomes you to experience the tactile warmth of stoneware. \nThe Whitefield Library is located at 1 Arlington Lane in Whitefield and can be found online at\nhttps://whitefieldlibrary.org or by following us on Facebook and Instagram. For more\ninformation\, email us at: info@whitefieldlibrary.org This event is free\, but donations are greatly\nappreciated. We hope to see you there! \nWe currently have a few openings for artists who’d like to display their works at the library\nduring 2025. Please email our director at admin@whitefieldlibrary.org
URL:https://whitefieldlibrary.org/event/first-friday-art-night-with-mike-johnson-friday-december-6-6pm/
LOCATION:Whitefield Library & Community Center\, 1 Arlington Lane\, Whitefield\, ME\, 04353
ATTACH;FMTTYPE=image/png:https://whitefieldlibrary.org/wp-content/uploads/Mike-Johnson-860-x-484-px.png
ORGANIZER;CN="Whitefield Library Association":MAILTO:Info@whitefieldlibrary.org
END:VEVENT
BEGIN:VEVENT
DTSTART;TZID=America/New_York:20241117T140000
DTEND;TZID=America/New_York:20241117T160000
DTSTAMP:20260423T174656
CREATED:20241031T000503Z
LAST-MODIFIED:20241031T000503Z
UID:10004634-1731852000-1731859200@whitefieldlibrary.org
SUMMARY:"Travel is for the Birds"- Howie Neilsen on Sunday\, November 17 @ 2pm
DESCRIPTION:Please join us for this informative bird talk by world travelor and local Whitefielder\, Howie Nielsen. Howie will have a beautiful presentation of the birds he has seen on his most recent travels with his wife\, Karen. An afternoon you will not want to miss! \nFree and open to the public. Light refreshments served.
URL:https://whitefieldlibrary.org/event/travel-is-for-the-birds-howie-neilsen-on-sunday-november-17-2pm/
LOCATION:Whitefield Library & Community Center\, 1 Arlington Lane\, Whitefield\, ME\, 04353
CATEGORIES:Library News,News
ATTACH;FMTTYPE=image/png:https://whitefieldlibrary.org/wp-content/uploads/Howie-Nielsen.png
ORGANIZER;CN="Whitefield Library Association":MAILTO:Info@whitefieldlibrary.org
END:VEVENT
END:VCALENDAR